PDS_VERSION_ID = PDS3
/* File Identification and Structure */
RECORD_TYPE = "FIXED_LENGTH"
RECORD_BYTES = 512
FILE_RECORDS = 8221
/* Pointers to Data Objects */
^HISTORY = 4100
^HEADER = ("I02673047SNU.CUB")
^QUBE = ("I02673047SNU.CUB", 67 )
/* Identification Data Elements */
MISSION_NAME = "2001 MARS ODYSSEY"
INSTRUMENT_HOST_NAME = "2001 MARS ODYSSEY"
INSTRUMENT_NAME = "THERMAL EMISSION IMAGING SYSTEM"
INSTRUMENT_ID = "THEMIS"
DETECTOR_ID = "IR"
MISSION_PHASE_NAME = "MAPPING"
SPACECRAFT_ORIENTATION_DESC = (PITCH, ROLL, YAW)
SPACECRAFT_ORIENTATION = (0, 0, 0)
SPACECRAFT_POINTING_MODE = "NADIR"
^SPACECRAFT_POINTING_MODE_DESC = "ODY_ORIENT_POINT.TXT"
TARGET_NAME = "MARS"
PRODUCT_ID = "I02673047SNU"
PRODUCER_ID = "ODY_THM_TEAM"
DATA_SET_ID = "ODY-M-THM-5-IRGEO-V1.0"
PRODUCT_CREATION_TIME = 2009-08-12T16:58:57
PRODUCT_VERSION_ID = "1.1"
SOURCE_PRODUCT_VERSION_ID = "1.6"
RELEASE_ID = "0003"
START_TIME = 2002-07-22T15:58:26.793
STOP_TIME = 2002-07-22T15:58:35.856
SPACECRAFT_CLOCK_START_COUNT = "711820779.000"
SPACECRAFT_CLOCK_STOP_COUNT = "711820788.016"
START_TIME_ET = 80625570.980
STOP_TIME_ET = 80625580.040
ORBIT_NUMBER = 02673
/* History Object Structure */
OBJECT = HISTORY
  BYTES = 7925
  HISTORY_TYPE = CUSTOM
  INTERCHANGE_FORMAT = ASCII
END_OBJECT = HISTORY
OBJECT = QUBE
  /* QUBE Structure */
  AXES = 3
  AXIS_NAME = (SAMPLE, LINE, BAND)
  /* Core Description */
  CORE_ITEMS = (340,306,10)
  CORE_NAME = "CALIBRATED_SPECTRAL_RADIANCE"
  CORE_ITEM_BYTES = 4
  CORE_ITEM_TYPE = PC_REAL
  CORE_BASE = 0.000000e+00
  CORE_MULTIPLIER = 1.000000e+00
  CORE_UNIT = "WATT*CM**-2*SR**-1*UM**-1"
  CORE_NULL = -32768
  CORE_VALID_MINIMUM = -32752
  CORE_LOW_REPR_SATURATION = -32767
  CORE_LOW_INSTR_SATURATION = -32766
  CORE_HIGH_REPR_SATURATION = -32765
  CORE_HIGH_INSTR_SATURATION = -32764
  /* Suffix Description */
  SUFFIX_ITEMS = (1,0,0)
  SUFFIX_BYTES = 4
  SAMPLE_SUFFIX_NAME = RECTIFY_LEFTEDGE
  SAMPLE_SUFFIX_ITEM_BYTES = 4
  SAMPLE_SUFFIX_ITEM_TYPE = LSB_INTEGER
  SAMPLE_SUFFIX_BASE = 0.000000
  SAMPLE_SUFFIX_MULTIPLIER = 1.000000
  SAMPLE_SUFFIX_VALID_MINIMUM = 16#FF7FFFFA#
  SAMPLE_SUFFIX_NULL = 16#FF7FFFFB#
  SAMPLE_SUFFIX_LOW_REPR_SAT = 16#FF7FFFFC#
  SAMPLE_SUFFIX_LOW_INSTR_SAT = 16#FF7FFFFD#
  SAMPLE_SUFFIX_HIGH_REPR_SAT = 16#FF7FFFFF#
  SAMPLE_SUFFIX_HIGH_INSTR_SAT = 16#FF7FFFFE#
  /* Observation Parameters */
  FLIGHT_SOFTWARE_VERSION_ID = "1.00"
  COMMAND_SEQUENCE_NUMBER = 2673
  IMAGE_ID = 47
  DESCRIPTION = "10 deg day atmos"
  INST_CMPRS_RATIO = 2.66
  UNCORRECTED_SCLK_START_COUNT = "711820779.000"
  IMAGE_DURATION = 9.062
  GAIN_NUMBER = 16
  OFFSET_NUMBER = 0
  TIME_DELAY_INTEGRATION_FLAG = "ENABLED"
  RICE_FLAG = "ENABLED"
  SPATIAL_SUMMING = 1
  PARTIAL_SUM_LINES = "N/A"
  MISSING_SCAN_LINES = 0
  MD5_CHECKSUM = "c372920ebeb23282f1ee411b98f10d50"
  /* Band Bins */
  GROUP = BAND_BIN
    BAND_BIN_FILTER_NUMBER = (1, 2, 3, 4, 5, 6, 7, 8, 9, 10)
    BAND_BIN_BAND_NUMBER = (1, 2, 3, 4, 5, 6, 7, 8, 9, 10)
    BAND_BIN_CENTER = (6.78, 6.78, 7.93, 8.56, 9.35, 10.21, 11.04, 11.79, 12.57, 14.88)
    BAND_BIN_WIDTH = (1.01, 1.01, 1.09, 1.16, 1.20, 1.10, 1.19, 1.07, 0.81, 0.87)
    BAND_BIN_UNIT = "MICROMETER"
  END_GROUP = BAND_BIN
END_OBJECT = QUBE
END
GROUP = SFDU2CUBE
  DATE_TIME = 2002-12-09T18:25:46
  SOFTWARE_DESC = "Translation of data format from SFDU into raw image qube(THM-EDR). Removes SFDU headers and unpackages data; returns an individual spectral image QUBE (THM-EDR) containing raw DN, with missing data CORE_NULL filled and an attched PDS label"
  VERSION_ID = 1.56
  USER_NAME = "murray@elysium"
  USER_NOTE = ""
  GROUP = PARAMETERS
    START_SFDU_ID = 711820779-1
    STOP_SFDU_ID = 711820788-2
    MISSING_PACKETS = 0
  END_GROUP = PARAMETERS
END_GROUP = SFDU2CUBE
GROUP = CAL_IR_IMAGE
  DATE_TIME = 2009-08-06T20:47:52
  SOFTWARE_DESC = "Calibration of a raw, infrared image (IREDR). Uses DN, gain and offset values from raw image with the instrument response function and a calibration flag image (IREDR); returns a calibrated spectral radiance image (IRRDR) in (W cm-2 str-1 um-1)."
  VERSION_ID = 5.10
  DAVINCI_VERSION = 2.00
  USER_NAME = "amaldo@mvc22b"
  USER_NOTE = ""
  GROUP = PARAMETERS
    IREDR_FILE = "I02673047EDR.QUB"
    IR_IMG_CAL_QUBE_VER = 5.10
    IRF_FILE = "/themis/calib/irf_fit_all_v3.0_tv6_1_2_v3.0"
    TEMP2RAD_FILE = "/themis/calib/temp_rad_v4"
    CALIB_FLAG_IMAGE = "S02673048EDR.QUB"
    CALIB_FLAG_DN = (138.567703, 138.602097, 138.823959, 138.970840, 139.082291, 138.579178, 139.020828, 138.885422, 138.132294, 137.895828)
    CALIB_FLAG_FILTER = 1
    CALIB_FLAG_OPTION = 2
    CALIB_FLAG_TEMP = -9.902750015
    DESTRIPE_OPTION_X = 3
    DESTRIPE_OPTION_Y = 3
    DESTRIPE_FILTER_X = 9
    DESTRIPE_FILTER_Y = 9
    STRAYLIGHT_GEOMETRY = "Reconstructed"
    STRAYLIGHT_XDELTA = (0, 0, 3, 3, 3, 3, 1, 1, 0, 0)
    STRAYLIGHT_YOFFSET = (0, 0, 349, 299, 249, 202, 152, 103, 0, 0)
    STRAYLIGHT_DEFOCUS_FILTER = (0, 0, 29, 25, 21, 15, 9, 5, 0, 0)
    STRAYLIGHT_TDI_SMEAR_FILTER = (1.000000, 0.000000, 1.000000, 0.000000, 1.000000, 0.000000, 1.000000, 0.000000, 1.000000, 0.000000, 1.000000, 0.000000, 1.000000, 0.000000, 1.000000, 0.000000, 1.000000, 0.000000, 1.000000, 0.000000, 1.000000, 0.000000, 1.000000, 0.000000, 1.000000, 0.000000, 1.000000, 0.000000, 1.000000, 0.000000, 1.000000, 0.000000)
    STRAYLIGHT_PERCENT = (0.000000, 0.000000, 2.000000, 4.500000, 6.000000, 5.500000, 5.000000, 5.000000, 0.000000, 0.000000)
  END_GROUP = PARAMETERS
END_GROUP = CAL_IR_IMAGE
GROUP = ASU_PROCESS_UDDW
  DATE_TIME = 2009-08-12T16:58:57
  SOFTWARE_DESC = "The Undrift-Dewobble filter was applied to this THEMIS IR-RDR QUBE to remove data value fluxuations caused by changes in the temperature of the IR detector array. Band 10 values remain unchanged."
  VERSION_ID = 1.80
  USER_NAME = "thmproc@mvc04d"
END_GROUP = ASU_PROCESS_UDDW
GROUP = ISIS_PROJECTION
  DATE_TIME = 2009-08-12T16:58:57
  SOFTWARE_DESC = "ISIS geometric projection of a THEMIS QUBE. Process includes translation of file formats (PDS2ISIS and LEVINIT); determining the valid core data range (DSK2DSK); geometric transformation of image planes (GEOM); and merging the individual bands back together (CUBEIT). See header of resulting ISIS cube for more details of projection. The ISIS_COMMAND parameter may also include additional processing steps that are described in other HISTORY groups in this label."
  VERSION_ID = "2.1.3_2004-10-22T17:28:07-7"
  USER_NAME = "thmproc@mvc04d"
  USER_NOTE = ""
  GROUP = PARAMETERS
    GEOMETRY_SOURCE_DESC = "Reconstructed"
    ISIS_COMMAND = "thmproc_run product I02673047 uddw project \ SINU:308,OCENTRIC none 0.100000 360 1 \ rectify deplaid aradcor"
    THMPROC_CACHE = "427514"
    PDS2ISIS_VERSION = "2004-05-28"
    GEOM_VERSION = "2004-06-17"
    LONGITUDE_SYSTEM = 360
    MINIMUM_LATITUDE = 9.6712540
    MAXIMUM_LATITUDE = 10.1544650
    CENTER_LONGITUDE = 308.0000000
    WESTERNMOST_LONGITUDE = 308.3023900
    EASTERNMOST_LONGITUDE = 308.9435080
    MAP_RESOLUTION = 592.7469752
    MAP_SCALE = 0.1000000
    MAP_PROJECTION_TYPE = "SINUSOIDAL"
    PROJECTION_LATITUDE_TYPE = "PLANETOCENTRIC"
    LINE_PROJECTION_OFFSET = -6019.500000
    SAMPLE_PROJECTION_OFFSET = 176.500000
  END_GROUP = PARAMETERS
END_GROUP = ISIS_PROJECTION
GROUP = ASU_PROCESS_RECTIFY
  DATE_TIME = 2009-08-12T16:59:24
  SOFTWARE_DESC = "The Rectify algorithm was applied to this THEMIS IR-GEO cube to minimize null space around the image data and to prepare the data for the Deplaid algorithm. This process may result in spatial distortions that are reversible using the parameters provided."
  VERSION_ID = 2005.07
  USER_NAME = "thmproc@mvc04d"
  USER_NOTE = ""
  GROUP = PARAMETERS
    WIDTH = 375.000000
    ANGLE = 2.871363
  END_GROUP = PARAMETERS
END_GROUP = ASU_PROCESS_RECTIFY
GROUP = ASU_PROCESS_DEPLAID
  DATE_TIME = 2009-08-12T17:00:04
  SOFTWARE_DESC = "Deplaid is a specialized, high-pass filter which was applied to remove row and line radiance spikes from the THEMIS IR-RDR data in this projection. Validation of the resulting spectral image confirms that the average spectra from a 50 x 50 pixel sample area remains unchanged."
  VERSION_ID = 2005.07
  USER_NAME = "thmproc@mvc04d"
  USER_NOTE = ""
END_GROUP = ASU_PROCESS_DEPLAID
GROUP = ASU_PROCESS_ARADCOR
  DATE_TIME = 2009-08-12T17:00:04
  SOFTWARE_DESC = "An automated radiance correction algorithm was applied to the THEMIS IR-RDR data in this projection to remove the atmospheric radiance component. The correction value is based on multiple 50 x 50 pixel samples located throughout the image which meet several temperature and emissivity criteria."
  VERSION_ID = 2005.07
  USER_NAME = "thmproc@mvc04d"
  USER_NOTE = ""
END_GROUP = ASU_PROCESS_ARADCOR
GROUP = ERRATA_ODTIG_0003_1_1
  DATE_TIME = "2009-10-01T00:00:00"
  ERRATA_DESC = "This special geometrically projected product was made available in the PDS archive after the original release of the source calibrated data (RDR). Associated ERRATA_ID: ODTIP-0003-1.1"
  ERRATA_ID = "ODTIG-0003-1.1"
  USER_NAME = "murray@olympus"
  USER_NOTE = ""
END_GROUP = ERRATA_ODTIG_0003_1_1
END
