PDS_VERSION_ID = PDS3
/* File Identification and Structure */
RECORD_TYPE = "FIXED_LENGTH"
RECORD_BYTES = 512
FILE_RECORDS = 239047
/* Pointers to Data Objects */
^HISTORY = 2585
^HEADER = ("V14338003LOC.CUB")
^QUBE = ("V14338003LOC.CUB", 95 )
/* Identification Data Elements */
MISSION_NAME = "2001 MARS ODYSSEY"
INSTRUMENT_HOST_NAME = "2001 MARS ODYSSEY"
INSTRUMENT_NAME = "THERMAL EMISSION IMAGING SYSTEM"
INSTRUMENT_ID = "THEMIS"
DETECTOR_ID = "VIS"
MISSION_PHASE_NAME = "EXTENDED-1"
TARGET_NAME = "MARS"
PRODUCT_ID = "V14338003LOC"
PRODUCER_ID = "ODY_THM_TEAM"
DATA_SET_ID = "ODY-M-THM-5-VISGEO-V1.0"
PRODUCT_CREATION_TIME = 2006-03-28T17:00:27
PRODUCT_VERSION_ID = "1.1"
SOURCE_PRODUCT_VERSION_ID = "1.1"
RELEASE_ID = "0013"
START_TIME = 2005-03-08T21:47:06.685
STOP_TIME = 2005-03-08T21:52:24.685
SPACECRAFT_CLOCK_START_COUNT = "794785833.230"
SPACECRAFT_CLOCK_STOP_COUNT = "794786151.230"
START_TIME_ET = 163590490.871
STOP_TIME_ET = 163590808.870
ORBIT_NUMBER = 14338
/* History Object Structure */
OBJECT = HISTORY
  BYTES = 5638
  HISTORY_TYPE = CUSTOM
  INTERCHANGE_FORMAT = ASCII
END_OBJECT = HISTORY
OBJECT = QUBE
  /* QUBE Structure */
  AXES = 3
  AXIS_NAME = (SAMPLE, LINE, BAND)
  /* Core Description */
  CORE_ITEMS = (4191,14596,1)
  CORE_NAME = "CALIBRATED_SPECTRAL_RADIANCE"
  CORE_ITEM_BYTES = 2
  CORE_ITEM_TYPE = LSB_INTEGER
  CORE_BASE = 5.346967e-04
  CORE_MULTIPLIER = 1.632374e-08
  CORE_UNIT = "WATT*CM**-2*SR**-1*UM**-1"
  CORE_NULL = -32768
  CORE_VALID_MINIMUM = -32752
  CORE_LOW_INSTR_SATURATION = -32766
  CORE_LOW_REPR_SATURATION = -32767
  CORE_HIGH_INSTR_SATURATION = -32765
  CORE_HIGH_REPR_SATURATION = -32764
  /* Observation Parameters */
  FLIGHT_SOFTWARE_VERSION_ID = "1.00"
  COMMAND_SEQUENCE_NUMBER = 14338
  IMAGE_ID = 3
  DESCRIPTION = "No Description Given"
  INST_CMPRS_RATIO = 1.81
  UNCORRECTED_SCLK_START_COUNT = "794785835.230"
  IMAGE_DURATION = 318.000
  INST_CMPRS_NAME = "PREDICTIVE"
  FOCAL_PLANE_TEMPERATURE = -5.30
  EXPOSURE_DURATION = 9.300
  INTERFRAME_DELAY = 1.000
  SPATIAL_SUMMING = 4
  MD5_CHECKSUM = "f7498855f875226c1fede5173215e956"
  /* Band Bins */
  GROUP = BAND_BIN
    BAND_BIN_FILTER_NUMBER = (3)
    BAND_BIN_BAND_NUMBER = (3)
    BAND_BIN_CENTER = (0.65)
    BAND_BIN_WIDTH = (0.05)
    BAND_BIN_UNIT = "MICROMETER"
  END_GROUP = BAND_BIN
END_OBJECT = QUBE
END
GROUP = SFDU2CUBE
  DATE_TIME = 2005-03-10T15:24:29
  SOFTWARE_DESC = "Translation of data format from SFDU into raw image qube(THM-EDR). Removes SFDU headers and unpackages data; returns an individual spectral image QUBE (THM-EDR) containing raw DN, with missing data CORE_NULL filled and an attched PDS label"
  VERSION_ID = 1.63
  USER_NAME = "laural@bluesky"
  USER_NOTE = ""
  GROUP = PARAMETERS
    START_SFDU_ID = 794785833-1
    STOP_SFDU_ID = 1589571984-2
    MISSING_PACKETS = 0
  END_GROUP = PARAMETERS
END_GROUP = SFDU2CUBE
GROUP = CAL_VIS_IMAGE
  DATE_TIME = 2005-09-26T06:22:26
  SOFTWARE_DESC = "Calibration of a raw, visible image (VISEDR). Calibration includes 8-bit to 11-bit decoding, removal of instrumental effects, and conversion to spectral radiance (W cm-2 str-1 micron-1). The instrumental effects considered are detector bias, register stray light, photosite stray light, and variations in pixel sensitivity (i.e., 'flatfield' effects). Spectral radiance is calculated from the exposure time and from the decoded, instrumentally corrected DN levels of the raw image, using conversion factors (BAND_BIN_SENSITIVITY) derived from pre-flight tests. For additional details, see CALIB/PROCESS.PDF."
  VERSION_ID = 4.10
  USER_NAME = "mcconnoc@fiji"
  USER_NOTE = ""
  GROUP = PARAMETERS
    BIAS_FILE = "/themis/data/zeroframe4_bias.fits"
    BIAS_FILE_DATE = 2004-07-13T21:30:16
    DESMEAR_FILE = "/themis/data/zeroframe4_zero.fits"
    DESMEAR_FILE_DATE = 2004-07-13T21:30:19
    FLATFIELD_FILE = "/themis/data/flat_framesm2.prof4.fits"
    FLATFIELD_FILE_DATE = 2005-09-23T01:21:06
    STRAY_LIGHT_FILE = "/themis/data/destray12_frame4_v1.fits"
    STRAY_LIGHT_FILE_DATE = 2005-09-23T09:38:49
    STRAY_LIGHT_REMOVAL_VERSION = 8
    BAND_BIN_MODEL_COEFF = (1.3351E-05)
    BAND_BIN_MODEL_COEFF_UNITS = " (WATT*CM**-2*SR**-1*UM**-1)/(DN*MSEC**-1)"
    BAND_BIN_SMEAR_COEFF = 84000.
    BAND_BIN_SMEAR_COEFF_UNITS = "DN/(WATT*CM**-2*SR**-1*UM**-1)"
    BAND_BIN_STRAY_LIGHT_SENSITIVITY = (3000.)
    BAND_BIN_SENSITIVITY = (56050.)
    BAND_BIN_SENSITIVITY_UNITS = "(DN*MSEC**-1) per (WATT*CMM**-2*SR**-1*UM**-1)"
  END_GROUP = PARAMETERS
END_GROUP = CAL_VIS_IMAGE
GROUP = ISIS_PROJECTION
  DATE_TIME = 2006-03-28T17:00:27
  SOFTWARE_DESC = "ISIS geometric projection of a THEMIS QUBE. Process includes translation of file formats (PDS2ISIS and LEVINIT); determining the valid core data range (DSK2DSK); geometric transformation of image planes (GEOM); and merging the individual bands back together (MOSAIC and CUBEIT). See header of resulting ISIS cube for more details of projection. The ISIS_COMMAND parameter may also include additional processing steps that are described in other HISTORY groups in this label."
  VERSION_ID = "2.1.3_2004-10-22T17:28:07-7"
  USER_NAME = "murray@c117"
  USER_NOTE = ""
  GROUP = PARAMETERS
    GEOMETRY_SOURCE_DESC = "Reconstructed"
    ISIS_COMMAND = "thm2isis.pl V143XXRDR/V14338003RDR.QUB \ V14338003RDR.lev.cub -- -- -- -- 360 thmvismc.pl V14338003RDR.vismc.cub -- -- \ POLA:-90,123.398 -- -- -- -- -- -- -- -- -- \ -- -- -- 0.072"
    PDS2ISIS_VERSION = " 2004-05-28"
    GEOM_VERSION = "2004-06-17"
    MOSAIC_VERSION = " 2003-10-27"
    LONGITUDE_SYSTEM = 360
    MINIMUM_LATITUDE = -66.1800079
    MAXIMUM_LATITUDE = -49.9259758
    CENTER_LONGITUDE = 123.3980000
    WESTERNMOST_LONGITUDE = 113.6269379
    EASTERNMOST_LONGITUDE = 118.7167587
    MAP_RESOLUTION = 818.4139751
    MAP_SCALE = 0.0720000
    MAP_PROJECTION_TYPE = "POLAR_STEREOGRAPHIC"
    PROJECTION_LATITUDE_TYPE = ""
    LINE_PROJECTION_OFFSET = -34089.500000
    SAMPLE_PROJECTION_OFFSET = -5804.500000
  END_GROUP = PARAMETERS
END_GROUP = ISIS_PROJECTION
GROUP = ERRATA_ODTVG_0013_1_1
  DATE_TIME = "2006-01-01T00:00:00"
  ERRATA_DESC = "This geometrically projected product was made available in the PDS archive after the original release of the source calibrated data (RDR). Associated ERRATA_ID: none"
  ERRATA_ID = "ODTVG-0013-1.1"
  USER_NAME = "murray@olympus"
  USER_NOTE = ""
END_GROUP = ERRATA_ODTVG_0013_1_1
GROUP = ERRATA_ODTVG_0013_1_1
  DATE_TIME = "2006-01-01T00:00:00"
  ERRATA_DESC = "This geometrically projected product was made available in the PDS archive after the original release of the source calibrated data (RDR). Associated ERRATA_ID: none"
  ERRATA_ID = "ODTVG-0013-1.1"
  USER_NAME = "murray@olympus"
  USER_NOTE = ""
END_GROUP = ERRATA_ODTVG_0013_1_1
END
