PDS_VERSION_ID = PDS3
/* File Identification and Structure */
RECORD_TYPE = "FIXED_LENGTH"
RECORD_BYTES = 512
FILE_RECORDS = 53808
/* Pointers to Data Objects */
^HISTORY = 4121
^HEADER = ("V16370007LOC.CUB")
^QUBE = ("V16370007LOC.CUB", 59 )
/* Identification Data Elements */
MISSION_NAME = "2001 MARS ODYSSEY"
INSTRUMENT_HOST_NAME = "2001 MARS ODYSSEY"
INSTRUMENT_NAME = "THERMAL EMISSION IMAGING SYSTEM"
INSTRUMENT_ID = "THEMIS"
DETECTOR_ID = "VIS"
MISSION_PHASE_NAME = "EXTENDED-1"
TARGET_NAME = "MARS"
PRODUCT_ID = "V16370007LOC"
PRODUCER_ID = "ODY_THM_TEAM"
DATA_SET_ID = "ODY-M-THM-5-VISGEO-V1.0"
PRODUCT_CREATION_TIME = 2006-06-08T09:27:38
PRODUCT_VERSION_ID = "1.1"
SOURCE_PRODUCT_VERSION_ID = "1.1"
RELEASE_ID = "0015"
START_TIME = 2005-08-23T05:15:19.029
STOP_TIME = 2005-08-23T05:15:36.126
SPACECRAFT_CLOCK_START_COUNT = "809241548.076"
SPACECRAFT_CLOCK_STOP_COUNT = "809241565.101"
START_TIME_ET = 178046183.211
STOP_TIME_ET = 178046200.309
ORBIT_NUMBER = 16370
/* History Object Structure */
OBJECT = HISTORY
  BYTES = 6425
  HISTORY_TYPE = CUSTOM
  INTERCHANGE_FORMAT = ASCII
END_OBJECT = HISTORY
OBJECT = QUBE
  /* QUBE Structure */
  AXES = 3
  AXIS_NAME = (SAMPLE, LINE, BAND)
  /* Core Description */
  CORE_ITEMS = (3574,3850,1)
  CORE_NAME = "CALIBRATED_SPECTRAL_RADIANCE"
  CORE_ITEM_BYTES = 2
  CORE_ITEM_TYPE = MSB_INTEGER
  CORE_BASE = 7.076575e-03
  CORE_MULTIPLIER = 2.157975e-07
  CORE_UNIT = "WATT*CM**-2*SR**-1*UM**-1"
  CORE_NULL = -32768
  CORE_VALID_MINIMUM = -32752
  CORE_LOW_INSTR_SATURATION = -32766
  CORE_LOW_REPR_SATURATION = -32767
  CORE_HIGH_INSTR_SATURATION = -32765
  CORE_HIGH_REPR_SATURATION = -32764
  /* Observation Parameters */
  FLIGHT_SOFTWARE_VERSION_ID = "1.00"
  COMMAND_SEQUENCE_NUMBER = 16370
  IMAGE_ID = 7
  DESCRIPTION = "No Description Given"
  INST_CMPRS_RATIO = 1.95
  UNCORRECTED_SCLK_START_COUNT = "809241550.025"
  IMAGE_DURATION = 17.100
  INST_CMPRS_NAME = "PREDICTIVE"
  FOCAL_PLANE_TEMPERATURE = 3.00
  EXPOSURE_DURATION = 1.100
  INTERFRAME_DELAY = 0.900
  SPATIAL_SUMMING = 1
  MD5_CHECKSUM = "c7abf5ad676cbc585e198ec8c58901c4"
  /* Band Bins */
  GROUP = BAND_BIN
    BAND_BIN_FILTER_NUMBER = (3)
    BAND_BIN_BAND_NUMBER = (3)
    BAND_BIN_CENTER = (0.65)
    BAND_BIN_WIDTH = (0.05)
    BAND_BIN_UNIT = "MICROMETER"
  END_GROUP = BAND_BIN
END_OBJECT = QUBE
END
GROUP = SFDU2CUBE
  DATE_TIME = 2006-06-02T23:24:29
  SOFTWARE_DESC = "Translation of data format from SFDU into raw image qube(THM-EDR). Removes SFDU headers and unpackages data; returns an individual spectral image QUBE (THM-EDR) containing raw DN, with missing data CORE_NULL filled and an attched PDS label"
  VERSION_ID = 1.67
  USER_NAME = "murray@c150"
  USER_NOTE = ""
  GROUP = PARAMETERS
    START_SFDU_ID = "809296887"
    STOP_SFDU_ID = "809297023"
    ERT_START_TIME = "2005-235 // 20:47:25"
    ERT_STOP_TIME = "2005-235 // 20:50:10"
    MISSING_PACKETS = 0
    FOUND_PACKETS = 876
  END_GROUP = PARAMETERS
END_GROUP = SFDU2CUBE
GROUP = CAL_VIS_IMAGE
  DATE_TIME = 2006-06-06T19:58:43
  SOFTWARE_DESC = "Calibration of a raw, visible image (VISEDR). Calibration includes 8-bit to 11-bit decoding, removal of instrumental effects, and conversion to spectral radiance (W cm-2 str-1 micron-1). The instrumental effects considered are detector bias, register stray light, photosite stray light, and variations in pixel sensitivity (i.e., 'flatfield' effects). Spectral radiance is calculated from the exposure time and from the decoded, instrumentally corrected DN levels of the raw image, using conversion factors (BAND_BIN_SENSITIVITY) derived from pre-flight tests. For additional details, see CALIB/PROCESS.PDF."
  VERSION_ID = 4.10
  USER_NAME = "murray@c045"
  USER_NOTE = ""
  GROUP = PARAMETERS
    BIAS_FILE = "/themis/calib/vis/data/zeroframe1_bias.fits"
    BIAS_FILE_DATE = 2006-02-14T18:12:06
    DESMEAR_FILE = "/themis/calib/vis/data/zeroframe1_zero.fits"
    DESMEAR_FILE_DATE = 2006-02-14T18:12:09
    FLATFIELD_FILE = " /themis/calib/vis/data/flat_framesm2.prof1.fits"
    FLATFIELD_FILE_DATE = 2006-02-14T18:12:03
    STRAY_LIGHT_FILE = " /themis/calib/vis/data/destray12_frame1_v1.fits"
    STRAY_LIGHT_FILE_DATE = 2006-02-14T18:12:03
    STRAY_LIGHT_REMOVAL_VERSION = 8
    BAND_BIN_MODEL_COEFF = (1.3351E-05)
    BAND_BIN_MODEL_COEFF_UNITS = " (WATT*CM**-2*SR**-1*UM**-1)/(DN*MSEC**-1)"
    BAND_BIN_SMEAR_COEFF = 55000.
    BAND_BIN_SMEAR_COEFF_UNITS = "DN/(WATT*CM**-2*SR**-1*UM**-1)"
    BAND_BIN_STRAY_LIGHT_SENSITIVITY = (3000.)
    BAND_BIN_SENSITIVITY = (56050.)
    BAND_BIN_SENSITIVITY_UNITS = "(DN*MSEC**-1) per (WATT*CMM**-2*SR**-1*UM**-1)"
  END_GROUP = PARAMETERS
END_GROUP = CAL_VIS_IMAGE
GROUP = ASU_PROCESS_COFF
  DATE_TIME = 2006-06-08T09:27:38
  SOFTWARE_DESC = "The radiance values of this THEMIS VIS-RDR QUBE were modified before geometric projection. This is a cosmetic correction which removes an optimized flat-field from each framelet in the image. The process maintains the overall radiance level of each framelet at the expense of significantly modifying the source VIS-RDR radiance values."
  VERSION_ID = 2005.10
  USER_NAME = "murray@c026"
  USER_NOTE = ""
  GROUP = PARAMETERS
    FLATFIELD_FILE = "/themis/data/flat_framesm2.prof1.fits"
    FLATFIELD_FILE_DATE = 2005-10-22T18:21:00
  END_GROUP = PARAMETERS
END_GROUP = ASU_PROCESS_COFF
GROUP = ISIS_PROJECTION
  DATE_TIME = 2006-06-08T09:27:38
  SOFTWARE_DESC = "ISIS geometric projection of a THEMIS QUBE. Process includes translation of file formats (PDS2ISIS and LEVINIT); determining the valid core data range (DSK2DSK); geometric transformation of image planes (GEOM); and merging the individual bands back together (MOSAIC and CUBEIT). See header of resulting ISIS cube for more details of projection. The ISIS_COMMAND parameter may also include additional processing steps that are described in other HISTORY groups in this label."
  VERSION_ID = "2.1.3_2004-10-22T17:28:07-7"
  USER_NAME = "murray@c026"
  USER_NOTE = ""
  GROUP = PARAMETERS
    GEOMETRY_SOURCE_DESC = "Reconstructed"
    ISIS_COMMAND = "thm2isis.pl REPAIR/V16370007RDR \ V16370007RDR.lev.cub -- -- -- -- 360 thmvismc.pl V16370007RDR.vismc.cub -- -- \ POLA:-90,180.743 -- -- -- -- -- -- -- -- -- \ -- -- -- 0.018"
    PDS2ISIS_VERSION = " 2004-05-28"
    GEOM_VERSION = "2004-06-17"
    MOSAIC_VERSION = " 2003-10-27"
    LONGITUDE_SYSTEM = 360
    MINIMUM_LATITUDE = -84.7120743
    MAXIMUM_LATITUDE = -83.7567749
    CENTER_LONGITUDE = 180.7430000
    WESTERNMOST_LONGITUDE = 29.4418125
    EASTERNMOST_LONGITUDE = 36.2867508
    MAP_RESOLUTION = 3273.6559003
    MAP_SCALE = 0.0180000
    MAP_PROJECTION_TYPE = "POLAR_STEREOGRAPHIC"
    PROJECTION_LATITUDE_TYPE = ""
    LINE_PROJECTION_OFFSET = 14095.500000
    SAMPLE_PROJECTION_OFFSET = -11892.500000
  END_GROUP = PARAMETERS
END_GROUP = ISIS_PROJECTION
GROUP = ERRATA_ODTVG_0015_1_1
  DATE_TIME = "2006-05-15T00:00:00"
  ERRATA_DESC = "The start time keyword values in the source VIS-RDR product were updated and the changes were used to regenerate this VIS-GEO. Note that changes to any timing keyword values will affect the projected location of the image. Associated ERRATA_ID: ODTVE-0015-1.1; ODTVR-0015-1.1; ODTVB-0015-1.1"
  ERRATA_ID = "ODTVG-0015-1.1"
  USER_NAME = "murray@olympus"
  USER_NOTE = ""
END_GROUP = ERRATA_ODTVG_0015_1_1
END
