PDS_VERSION_ID = PDS3
OBJECT = COMPRESSED_FILE
  FILE_NAME = "I54811022EQR.CUB.gz"
  RECORD_TYPE = UNDEFINED
  ENCODING_TYPE = ZIP
  ENCODING_TYPE_VERSION_NAME = "GZIP/1.3.12"
  INTERCHANGE_FORMAT = BINARY
  UNCOMPRESSED_FILE_NAME = "I54811022EQR.CUB"
  REQUIRED_STORAGE_BYTES = 408521350
  ^DESCRIPTION = "ZIPINFO.TXT"
END_OBJECT = COMPRESSED_FILE
OBJECT = UNCOMPRESSED_FILE
  /* File Identification and Structure */
  RECORD_TYPE = "FIXED_LENGTH"
  RECORD_BYTES = 1440
  FILE_RECORDS = 408521350
  /* Pointers to Data Objects */
  ^HISTORY = 4646
  ^HEADER = ("I54811022EQR.CUB")
  ^QUBE = ("I54811022EQR.CUB", 65537)
  /* Identification Data Elements */
  MISSION_NAME = "2001 MARS ODYSSEY"
  INSTRUMENT_HOST_NAME = "2001 MARS ODYSSEY"
  INSTRUMENT_NAME = "THERMAL EMISSION IMAGING SYSTEM"
  INSTRUMENT_ID = "THEMIS"
  DETECTOR_ID = "IR"
  MISSION_PHASE_NAME = "EXTENDED-5"
  SPACECRAFT_ORIENTATION_DESC = (PITCH, ROLL, YAW)
  SPACECRAFT_ORIENTATION = (0, 0, 0)
  SPACECRAFT_POINTING_MODE = "NADIR"
  ^SPACECRAFT_POINTING_MODE_DESC = "ODY_ORIENT_POINT.TXT"
  TARGET_NAME = "MARS"
  PRODUCT_ID = "I54811022EQR"
  PRODUCER_ID = "ODY_THM_TEAM"
  DATA_SET_ID = "ODY-M-THM-5-IRGEO-V2.0"
  PRODUCT_CREATION_TIME = 2016-10-03T14:29:48
  PRODUCT_VERSION_ID = "2.1"
  SOURCE_PRODUCT_VERSION_ID = "1.1"
  RELEASE_ID = "0050"
  START_TIME = 2014-04-22T23:24:45.309
  STOP_TIME = 2014-04-22T23:28:44.781
  SPACECRAFT_CLOCK_START_COUNT = "1082676817.204"
  SPACECRAFT_CLOCK_STOP_COUNT = "1082677057.069"
  START_TIME_ET = 451481152.500
  STOP_TIME_ET = 451481392.000
  ORBIT_NUMBER = 54811
  /* History Object Structure */
  OBJECT = HISTORY
    BYTES = 13706
    HISTORY_TYPE = CUSTOM
    INTERCHANGE_FORMAT = ASCII
  END_OBJECT = HISTORY
  OBJECT = QUBE
    /* QUBE Structure */
    AXES = 3
    AXIS_NAME = (SAMPLE, LINE, BAND)
    BAND_STORAGE_TYPE = BAND_SEQUENTIAL
    /* Core Description */
    CORE_ITEMS = (1440,7091,10)
    CORE_NAME = "CALIBRATED_SPECTRAL_RADIANCE"
    CORE_ITEM_BYTES = 4
    CORE_ITEM_TYPE = PC_REAL
    CORE_BASE = 0.0
    CORE_MULTIPLIER = 1.0
    CORE_UNIT = "WATT*CM**-2*SR**-1*UM**-1"
    CORE_NULL = -3.40282e+38
    CORE_VALID_MINIMUM = -3.40282e+38
    CORE_LOW_REPR_SATURATION = -3.40282e+38
    CORE_LOW_INSTR_SATURATION = -3.40282e+38
    CORE_HIGH_REPR_SATURATION = -3.40282e+38
    CORE_HIGH_INSTR_SATURATION = -3.40282e+38
    /* Observation Parameters */
    FLIGHT_SOFTWARE_VERSION_ID = "1.00"
    COMMAND_SEQUENCE_NUMBER = 54811
    IMAGE_ID = 22
    DESCRIPTION = "No Description Given"
    INST_CMPRS_RATIO = 2.83
    UNCORRECTED_SCLK_START_COUNT = "1082676817.204"
    IMAGE_DURATION = 239.467
    GAIN_NUMBER = 16
    OFFSET_NUMBER = 2
    TIME_DELAY_INTEGRATION_FLAG = "ENABLED"
    RICE_FLAG = "ENABLED"
    SPATIAL_SUMMING = 1
    PARTIAL_SUM_LINES = "N/A"
    MISSING_SCAN_LINES = 0
    MD5_CHECKSUM = "f73666872ac96fca2cd26c72e69e0b59"
    /* Band Bins */
    GROUP = BAND_BIN
      BAND_BIN_FILTER_NUMBER = (1, 2, 3, 4, 5, 6, 7, 8, 9, 10)
      BAND_BIN_BAND_NUMBER = (1, 2, 3, 4, 5, 6, 7, 8, 9, 10)
      BAND_BIN_CENTER = (6.78, 6.78, 7.93, 8.56, 9.35, 10.21, 11.04, 11.79, 12.57, 14.88)
      BAND_BIN_WIDTH = (1.01, 1.01, 1.09, 1.16, 1.20, 1.10, 1.19, 1.07, 0.81, 0.87)
      BAND_BIN_UNIT = "MICROMETER"
    END_GROUP = BAND_BIN
  END_OBJECT = QUBE
END_OBJECT = UNCOMPRESSED_FILE
/* Data Object Definition */
OBJECT = IMAGE_MAP_PROJECTION
  ^DATA_SET_MAP_PROJECTION = "DSMAP_EQR.CAT"
  GEOMETRY_SOURCE_DESC = "Reconstructed"
  COORDINATE_SYSTEM_TYPE = "BODY-FIXED ROTATING"
  COORDINATE_SYSTEM_NAME = "PLANETOCENTRIC"
  MAP_PROJECTION_TYPE = "EQUIRECTANGULAR"
  MAP_PROJECTION_ROTATION = 0
  MAP_LONGITUDE_SYSTEM = 360
  A_AXIS_RADIUS = 3381.680
  B_AXIS_RADIUS = 3381.680
  C_AXIS_RADIUS = 3381.680
  FIRST_STANDARD_PARALLEL = "N/A"
  SECOND_STANDARD_PARALLEL = "N/A"
  POSITIVE_LONGITUDE_DIRECTION = "EAST"
  REFERENCE_LATITUDE = "N/A"
  REFERENCE_LONGITUDE = "N/A"
  CENTER_LATITUDE = 45.000
  CENTER_LONGITUDE = 180
  MINIMUM_LATITUDE = 42.700700
  MAXIMUM_LATITUDE = 54.699200
  WESTERNMOST_LONGITUDE = 158.071000
  EASTERNMOST_LONGITUDE = 161.515000
  MAP_SCALE = 0.100
  MAP_RESOLUTION = 590.995000
  SAMPLE_PROJECTION_OFFSET = 9165.500
  LINE_PROJECTION_OFFSET = 32327.500
  SAMPLE_FIRST_PIXEL = 1
  LINE_FIRST_PIXEL = 1
  SAMPLE_LAST_PIXEL = 1440
  LINE_LAST_PIXEL = 7091
END_OBJECT = IMAGE_MAP_PROJECTION
END
GROUP = SFDU2CUBE
  DATE_TIME = 2014-12-17T22:03:59
  SOFTWARE_DESC = "Translation of data format from SFDU into raw image qube(THM-EDR). Removes SFDU headers and unpackages data; returns an individual spectral image QUBE (THM-EDR) containing raw DN, with missing data CORE_NULL filled and an attched PDS label"
  VERSION_ID = 1.69
  USER_NAME = "murray@mvc09b"
  USER_NOTE = ""
  GROUP = PARAMETERS
    START_SFDU_ID = "1082699643"
    STOP_SFDU_ID = "1082700201"
    ERT_START_TIME = "2014-113 // 05:52:28"
    ERT_STOP_TIME = "2014-113 // 06:02:38"
    MISSING_PACKETS = 0
    FOUND_PACKETS = 3713
  END_GROUP = PARAMETERS
END_GROUP = SFDU2CUBE
GROUP = CAL_IR_IMAGE
  DATE_TIME = 2016-08-29T17:22:58
  SOFTWARE_DESC = "Calibration of a raw, infrared image (IREDR). Uses DN, gain and offset values from raw image with the instrument response function and a calibration flag image (IREDR); returns a calibrated spectral radiance image (IRRDR) in (W cm-2 str-1 um-1)."
  VERSION_ID = 5.10
  DAVINCI_VERSION = 2.09
  USER_NAME = "amaldo@mvc04a"
  USER_NOTE = ""
  GROUP = PARAMETERS
    IREDR_FILE = "I54811022EDR.QUB"
    IR_IMG_CAL_QUBE_VER = 5.10
    IRF_FILE = "/themis/calib/irf_fit_all_v3.0_tv6_1_2_v3.0"
    TEMP2RAD_FILE = "/themis/calib/temp_rad_v4"
    CALIB_FLAG_IMAGE = "S54811024EDR.QUB"
    CALIB_FLAG_DN = (147.617722, 147.683334, 147.637512, 147.321884, 147.831238, 147.923950, 148.431244, 147.531235, 147.541656, 147.153122)
    CALIB_FLAG_FILTER = 1
    CALIB_FLAG_OPTION = 2
    CALIB_FLAG_TEMP = -10.70149994
    DESTRIPE_OPTION_X = 3
    DESTRIPE_OPTION_Y = 3
    DESTRIPE_FILTER_X = 9
    DESTRIPE_FILTER_Y = 9
    STRAYLIGHT_GEOMETRY = "Reconstructed"
    STRAYLIGHT_XDELTA = (0, 0, 3, 3, 3, 3, 1, 1, 0, 0)
    STRAYLIGHT_YOFFSET = (0, 0, 349, 299, 249, 202, 152, 103, 0, 0)
    STRAYLIGHT_DEFOCUS_FILTER = (0, 0, 29, 25, 21, 15, 9, 5, 0, 0)
    STRAYLIGHT_TDI_SMEAR_FILTER = (1.000000, 0.000000, 1.000000, 0.000000, 1.000000, 0.000000, 1.000000, 0.000000, 1.000000, 0.000000, 1.000000, 0.000000, 1.000000, 0.000000, 1.000000, 0.000000, 1.000000, 0.000000, 1.000000, 0.000000, 1.000000, 0.000000, 1.000000, 0.000000, 1.000000, 0.000000, 1.000000, 0.000000, 1.000000, 0.000000, 1.000000, 0.000000)
    STRAYLIGHT_PERCENT = (0.000000, 0.000000, 2.000000, 4.500000, 6.000000, 5.500000, 5.000000, 5.000000, 0.000000, 0.000000)
  END_GROUP = PARAMETERS
END_GROUP = CAL_IR_IMAGE
GROUP = ERRATA_ODTIR_0050_1_1
  DATE_TIME = "2016-07-01T00:00:00"
  ERRATA_DESC = "This IR-RDR product was regenerated using an improved model of spacecraft position at the time the image was collected; this is one of the parameters in the calibration process. Associated ERRATA_ID: ODTIB-0050-1.1 ODTIG-0050-2.1 ODTIP-0050-2.1 ODTID-0050-2.1"
  ERRATA_ID = "ODTIR-0050-1.1"
  USER_NAME = "murray@olympus"
  USER_NOTE = ""
END_GROUP = ERRATA_ODTIR_0050_1_1
GROUP = THM2ISIS
  IsisVersion = "3.4.9.6114 stable | 2015-03-26"
  ProgramVersion = 2014-05-16
  ProgramPath = /mars/common/isis3/3.4.9_64/isis/bin
  ExecutionDateTime = 2016-10-03T14:22:16
  HostName = mvc02a
  UserName = amaldo
  Description = "Import a Themis IR/VIS RDR or EDR"
  GROUP = PARAMETERS
    FROM = /themis/data/mapping/RDR_calib/I548XXRDR/I54811022RDR.QUB
    TO = /tmp/dv_27706/I54811022RDR.I3.cub
    TIMEOFFSET = 0
  END_GROUP = PARAMETERS
END_GROUP = THM2ISIS
GROUP = ASU_PROCESS_UDDW
  date_time = 2016-10-03T14:22:25
  software_desc = "The Undrift-Dewobble filter was applied to this THEMIS IR-RDR QUBE to remove data value fluxuations caused by changes in the temperature of the IR detector array. Band 10 values remain unchanged. See Bandfield, et.al, doi:10.1029/2004JE002289"
  version_id = 1.84
  user_name = amaldo@mvc02a
  GROUP = PARAMETERS
    unscale_data = 1
    dropout_correction = 1
    TES_band10 = 174.8
    THEMIS_band10 = 177.5
    force_fit2TES = 0
    project_image = 0
    rtilt_ramp = 4000
  END_GROUP = PARAMETERS
END_GROUP = ASU_PROCESS_UDDW
GROUP = DAVINCI_TO_ISIS3
  DavinciVersion = "daVinci Version #2.09"
  DavinciIsis3ModuleVersion = "0.9.6 (ISIS 3.4.x)"
  ExecutionDateTime = 2016-10-03T21:22:50
  HostName = mvc02a
  UserName = amaldo
  Description = "ISIS3 cube written from davinci after asu_process_uddw processing."
END_GROUP = DAVINCI_TO_ISIS3
GROUP = SPICEINIT
  IsisVersion = "3.4.9.6114 stable | 2015-03-26"
  ProgramVersion = 2014-04-27
  ProgramPath = /mars/common/isis3/3.4.9_64/isis/bin
  ExecutionDateTime = 2016-10-03T14:22:52
  HostName = mvc02a
  UserName = amaldo
  Description = "Update SPICE data (kernels, pointing, and position) for a camera cube"
  GROUP = PARAMETERS
    FROM = /tmp/I54811022/I54811022UDDW.L1.cub
    WEB = false
    ATTACH = TRUE
    CKSMITHED = FALSE
    CKRECON = yes
    CKPREDICTED = FALSE
    CKNADIR = no
    SPKSMITHED = FALSE
    SPKRECON = TRUE
    SPKPREDICTED = FALSE
    SHAPE = SYSTEM
    STARTPAD = 0
    ENDPAD = 0
    URL = http://services.isis.astrogeology.usgs.gov/cgi-bin/spicein- it.cgi
    PORT = 80
  END_GROUP = PARAMETERS
  GROUP = KERNELS
    NaifFrameCode = -53031
    LeapSecond = /themis/naif/data/naif0012.tls
    TargetAttitudeShape = $base/kernels/pck/pck00009.tpc
    TargetPosition = (Table, $base/kernels/spk/de405.bsp)
    InstrumentPointing = (Table, /themis/naif/ck/m01_sc_ext39.bc, $odyssey/kernels/fk/m01_v29.tf)
    Instrument = Null
    SpacecraftClock = /themis/naif/data/ORB1_SCLKSCET.00217.tsc
    InstrumentPosition = (Table, /themis/naif/spk/spk_m_od54705-54824_rec_v1.b- sp)
    InstrumentAddendum = $odyssey/kernels/iak/themisAddendum003.ti
    ShapeModel = $base/dems/molaMarsPlanetaryRadius0005.cub
    InstrumentPositionQuality = Reconstructed
    InstrumentPointingQuality = Reconstructed
    CameraVersion = 2
  END_GROUP = KERNELS
END_GROUP = SPICEINIT
GROUP = CUBEATT
  IsisVersion = "3.4.9.6114 stable | 2015-03-26"
  ProgramVersion = 2014-04-07
  ProgramPath = /mars/common/isis3/3.4.9_64/isis/bin
  ExecutionDateTime = 2016-10-03T14:22:55
  HostName = mvc02a
  UserName = amaldo
  Description = "Cube attribute editor"
  GROUP = PARAMETERS
    FROM = /tmp/I54811022/I54811022UDDW.L1.cub
    TO = /tmp/I54811022/I54811022.L1tile.cub+tile
    PROPTABLES = true
  END_GROUP = PARAMETERS
END_GROUP = CUBEATT
GROUP = CAM2MAP
  IsisVersion = "3.4.9.6114 stable | 2015-03-26"
  ProgramVersion = 2013-07-11
  ProgramPath = /mars/common/isis3/3.4.9_64/isis/bin
  ExecutionDateTime = 2016-10-03T14:23:00
  HostName = mvc02a
  UserName = amaldo
  Description = "Convert camera image to a map projection"
  GROUP = PARAMETERS
    FROM = /tmp/I54811022/I54811022.L1tile.cub
    MAP = /tmp/I54811022/I54811022.maptemplate
    TO = /tmp/I54811022/I54811022EQR.proj.cub
    MATCHMAP = false
    PIXRES = map
    DEFAULTRANGE = MINIMIZE
    LONSEAM = AUTO
    INTERP = bilinear
    WARPALGORITHM = AUTOMATIC
  END_GROUP = PARAMETERS
  GROUP = MAPPING
    ProjectionName = Equirectangular
    CenterLongitude = 180
    TargetName = MARS
    EquatorialRadius = 3.39619e+06
    PolarRadius = 3.3762e+06
    LatitudeType = Planetocentric
    LongitudeDirection = PositiveEast
    LongitudeDomain = 360
    MinimumLatitude = 42.7007
    MaximumLatitude = 54.6992
    MinimumLongitude = 158.071
    MaximumLongitude = 161.515
    UpperLeftCornerX = -916500
    UpperLeftCornerY = 3.2327e+06
    PixelResolution = 100
    Scale = 590.995
    CenterLatitude = 45
    LocalRadius = 3.38168e+06
  END_GROUP = MAPPING
END_GROUP = CAM2MAP
GROUP = EDITLAB
  IsisVersion = "3.4.9.6114 stable | 2015-03-26"
  ProgramVersion = 2012-12-20
  ProgramPath = /mars/common/isis3/3.4.9_64/isis/bin
  ExecutionDateTime = 2016-10-03T14:29:03
  HostName = mvc02a
  UserName = amaldo
  Description = "Modifies cube labels"
  GROUP = PARAMETERS
    FROM = /tmp/I54811022/I54811022EQR.proj.cub
    OPTIONS = addkey
    GRPNAME = Mapping
    KEYWORD = LocalRadius
    VALUE = 3.38168e+06
  END_GROUP = PARAMETERS
END_GROUP = EDITLAB
GROUP = ASU_PROCESS_RECTIFY
  date_time = 2016-10-03T14:29:17
  software_desc = "The Rectify algorithm was applied to this THEMIS IR-GEO cube to minimize null space around the image data and to prepare the data for the Deplaid algorithm. This process was then reversed with the Reconstitute algorithm to restore the data to the fully projected orientation."
  version_id = 2005.07
  davinci_version = 2.09
  user_name = amaldo@mvc02a
  user_note = Null
  GROUP = PARAMETERS
    corners = true
    width = 1440
    angle = 4.57392
  END_GROUP = PARAMETERS
END_GROUP = ASU_PROCESS_RECTIFY
GROUP = ASU_PROCESS_DEPLAID
  date_time = 2016-10-03T14:29:22
  software_desc = "Deplaid is a specialized, high-pass filter which was applied to remove row and line radiance spikes from the THEMIS IR-RDR data in this projection. Validation of the resulting spectral image confirms that the average spectra from a 50 x 50 pixel sample area remains unchanged."
  version_id = 2005.07
  davinci_version = 2.09
  user_name = amaldo@mvc02a
  user_note = Null
END_GROUP = ASU_PROCESS_DEPLAID
GROUP = ASU_PROCESS_AUTORADCOR
  date_time = 2016-10-03T14:29:48
  software_desc = "Calculates and applies a radiance correction to THEMIS IR-RDR data; the correction is based on 50x50 pixel areas in the scene that meet standard criteria."
  version_id = 2013.07
  davinci_version = 2.09
  user_name = amaldo@mvc02a
  user_note = Null
END_GROUP = ASU_PROCESS_AUTORADCOR
GROUP = DAVISIS3
  DavinciVersion = "daVinci Version #2.09"
  DavinciIsis3ModuleVersion = "0.9.6 (ISIS 3.4.x)"
  ExecutionDateTime = 2016-10-03T21:29:54
  HostName = mvc02a
  UserName = amaldo
  Description = "ISIS3 cube written from davinci."
END_GROUP = DAVISIS3
GROUP = ERRATA_ODTIG_0050_2_1
  DATE_TIME = "2016-07-01T00:00:00"
  ERRATA_DESC = "This IR-GEO product was regenerated using a revised source IR-RDR, updated ISIS software (version 3.4.9), and an improved model of the spacecraft position at the time the image was collected. Associated ERRATA_ID: ODTIR-0050-1.1 ODTIP-0050-2.1 ODTID-0050-2.1"
  ERRATA_ID = "ODTIG-0050-2.1"
  USER_NAME = "murray@olympus"
  USER_NOTE = ""
END_GROUP = ERRATA_ODTIG_0050_2_1
GROUP = GEOMETRY_QUALITY
  DATE_TIME = 2017-07-03T12:24:52
  SOFTWARE_DESC = "The quality of the projected location of a THEMIS image can be affected by multiple factors, which are summarized here along with the assessed GEOMETRY_QUALITY_RATING. See the GEOMETRY/GEOMETRY.PDF for a full discussion of the individual parameters."
  GROUP = PARAMETERS
    GEOMETRY_SOURCE_DESC = "RECONSTRUCTED"
    SPACECRAFT_ATTITUDE_DESC = "(GYRO,TRACKING)"
    SPACECRAFT_ATTITUDE_ERROR = (-0.0009, -0.0015, 0.0090)
    SPACECRAFT_DESAT_EVENT = "NO"
    SPACECRAFT_TELEMETRY_GAP = "NO"
    ASU_BASEMAP_COREG = "YES"
    GEOMETRY_QUALITY_RATING = "GOOD"
  END_GROUP = PARAMETERS
END_GROUP = GEOMETRY_QUALITY
END
