PDS_VERSION_ID = PDS3
OBJECT = COMPRESSED_FILE
  FILE_NAME = "I55586002EQR.CUB.gz"
  RECORD_TYPE = UNDEFINED
  ENCODING_TYPE = ZIP
  ENCODING_TYPE_VERSION_NAME = "GZIP/1.3.12"
  INTERCHANGE_FORMAT = BINARY
  UNCOMPRESSED_FILE_NAME = "I55586002EQR.CUB"
  REQUIRED_STORAGE_BYTES = 233338726
  ^DESCRIPTION = "ZIPINFO.TXT"
END_OBJECT = COMPRESSED_FILE
OBJECT = UNCOMPRESSED_FILE
  /* File Identification and Structure */
  RECORD_TYPE = "FIXED_LENGTH"
  RECORD_BYTES = 1801
  FILE_RECORDS = 233338726
  /* Pointers to Data Objects */
  ^HISTORY = 4467
  ^HEADER = ("I55586002EQR.CUB")
  ^QUBE = ("I55586002EQR.CUB", 65537)
  /* Identification Data Elements */
  MISSION_NAME = "2001 MARS ODYSSEY"
  INSTRUMENT_HOST_NAME = "2001 MARS ODYSSEY"
  INSTRUMENT_NAME = "THERMAL EMISSION IMAGING SYSTEM"
  INSTRUMENT_ID = "THEMIS"
  DETECTOR_ID = "IR"
  MISSION_PHASE_NAME = "EXTENDED-5"
  SPACECRAFT_ORIENTATION_DESC = (PITCH, ROLL, YAW)
  SPACECRAFT_ORIENTATION = (0, 0, 0)
  SPACECRAFT_POINTING_MODE = "NADIR"
  ^SPACECRAFT_POINTING_MODE_DESC = "ODY_ORIENT_POINT.TXT"
  TARGET_NAME = "MARS"
  PRODUCT_ID = "I55586002EQR"
  PRODUCER_ID = "ODY_THM_TEAM"
  DATA_SET_ID = "ODY-M-THM-5-IRGEO-V2.0"
  PRODUCT_CREATION_TIME = 2016-12-05T11:27:01
  PRODUCT_VERSION_ID = "2.2"
  SOURCE_PRODUCT_VERSION_ID = "1.1"
  RELEASE_ID = "0050"
  START_TIME = 2014-06-25T16:32:25.540
  STOP_TIME = 2014-06-25T16:38:24.477
  SPACECRAFT_CLOCK_START_COUNT = "1088181684.128"
  SPACECRAFT_CLOCK_STOP_COUNT = "1088182043.112"
  START_TIME_ET = 456986012.700
  STOP_TIME_ET = 456986371.700
  ORBIT_NUMBER = 55586
  /* History Object Structure */
  OBJECT = HISTORY
    BYTES = 13053
    HISTORY_TYPE = CUSTOM
    INTERCHANGE_FORMAT = ASCII
  END_OBJECT = HISTORY
  OBJECT = QUBE
    /* QUBE Structure */
    AXES = 3
    AXIS_NAME = (SAMPLE, LINE, BAND)
    BAND_STORAGE_TYPE = BAND_SEQUENTIAL
    /* Core Description */
    CORE_ITEMS = (1801,10793,3)
    CORE_NAME = "CALIBRATED_SPECTRAL_RADIANCE"
    CORE_ITEM_BYTES = 4
    CORE_ITEM_TYPE = PC_REAL
    CORE_BASE = 0.0
    CORE_MULTIPLIER = 1.0
    CORE_UNIT = "WATT*CM**-2*SR**-1*UM**-1"
    CORE_NULL = -3.40282e+38
    CORE_VALID_MINIMUM = -3.40282e+38
    CORE_LOW_REPR_SATURATION = -3.40282e+38
    CORE_LOW_INSTR_SATURATION = -3.40282e+38
    CORE_HIGH_REPR_SATURATION = -3.40282e+38
    CORE_HIGH_INSTR_SATURATION = -3.40282e+38
    /* Observation Parameters */
    FLIGHT_SOFTWARE_VERSION_ID = "1.00"
    COMMAND_SEQUENCE_NUMBER = 55586
    IMAGE_ID = 2
    DESCRIPTION = "No Description Given"
    INST_CMPRS_RATIO = 2.77
    UNCORRECTED_SCLK_START_COUNT = "1088181684.128"
    IMAGE_DURATION = 358.933
    GAIN_NUMBER = 16
    OFFSET_NUMBER = 2
    TIME_DELAY_INTEGRATION_FLAG = "ENABLED"
    RICE_FLAG = "ENABLED"
    SPATIAL_SUMMING = 1
    PARTIAL_SUM_LINES = "N/A"
    MISSING_SCAN_LINES = 0
    MD5_CHECKSUM = "396af6163b109dea77c9ddc459912f11"
    /* Band Bins */
    GROUP = BAND_BIN
      BAND_BIN_FILTER_NUMBER = (4, 9, 10)
      BAND_BIN_BAND_NUMBER = (4, 9, 10)
      BAND_BIN_CENTER = (8.56, 12.57, 14.88)
      BAND_BIN_WIDTH = (1.16, 0.81, 0.87)
      BAND_BIN_UNIT = "MICROMETER"
    END_GROUP = BAND_BIN
  END_OBJECT = QUBE
END_OBJECT = UNCOMPRESSED_FILE
/* Data Object Definition */
OBJECT = IMAGE_MAP_PROJECTION
  ^DATA_SET_MAP_PROJECTION = "DSMAP_EQR.CAT"
  GEOMETRY_SOURCE_DESC = "Reconstructed"
  COORDINATE_SYSTEM_TYPE = "BODY-FIXED ROTATING"
  COORDINATE_SYSTEM_NAME = "PLANETOCENTRIC"
  MAP_PROJECTION_TYPE = "EQUIRECTANGULAR"
  MAP_PROJECTION_ROTATION = 0
  MAP_LONGITUDE_SYSTEM = 360
  A_AXIS_RADIUS = 3387.693
  B_AXIS_RADIUS = 3387.693
  C_AXIS_RADIUS = 3387.693
  FIRST_STANDARD_PARALLEL = "N/A"
  SECOND_STANDARD_PARALLEL = "N/A"
  POSITIVE_LONGITUDE_DIRECTION = "EAST"
  REFERENCE_LATITUDE = "N/A"
  REFERENCE_LONGITUDE = "N/A"
  CENTER_LATITUDE = -15.000
  CENTER_LONGITUDE = 180.0
  MINIMUM_LATITUDE = -25.528277
  MAXIMUM_LATITUDE = -7.314594
  WESTERNMOST_LONGITUDE = 152.499064
  EASTERNMOST_LONGITUDE = 155.645082
  MAP_SCALE = 0.100
  MAP_RESOLUTION = 592.511323
  SAMPLE_PROJECTION_OFFSET = 15740.500
  LINE_PROJECTION_OFFSET = -4332.500
  SAMPLE_FIRST_PIXEL = 1
  LINE_FIRST_PIXEL = 1
  SAMPLE_LAST_PIXEL = 1801
  LINE_LAST_PIXEL = 10793
END_OBJECT = IMAGE_MAP_PROJECTION
END
GROUP = SFDU2CUBE
  DATE_TIME = 2014-12-23T21:17:37
  SOFTWARE_DESC = "Translation of data format from SFDU into raw image qube(THM-EDR). Removes SFDU headers and unpackages data; returns an individual spectral image QUBE (THM-EDR) containing raw DN, with missing data CORE_NULL filled and an attched PDS label"
  VERSION_ID = 1.69
  USER_NAME = "murray@mvc05a"
  USER_NOTE = ""
  GROUP = PARAMETERS
    START_SFDU_ID = "1088192554"
    STOP_SFDU_ID = "1088192796"
    ERT_START_TIME = "2014-176 // 19:43:42"
    ERT_STOP_TIME = "2014-176 // 19:48:22"
    MISSING_PACKETS = 0
    FOUND_PACKETS = 1706
  END_GROUP = PARAMETERS
END_GROUP = SFDU2CUBE
GROUP = CAL_IR_IMAGE
  DATE_TIME = 2016-09-17T00:30:09
  SOFTWARE_DESC = "Calibration of a raw, infrared image (IREDR). Uses DN, gain and offset values from raw image with the instrument response function and a calibration flag image (IREDR); returns a calibrated spectral radiance image (IRRDR) in (W cm-2 str-1 um-1)."
  VERSION_ID = 5.10
  DAVINCI_VERSION = 2.09
  USER_NAME = "murray@mvc05b"
  USER_NOTE = ""
  GROUP = PARAMETERS
    IREDR_FILE = "I55586002EDR.QUB"
    IR_IMG_CAL_QUBE_VER = 5.10
    IRF_FILE = "/themis/calib/irf_fit_all_v3.0_tv6_1_2_v3.0"
    TEMP2RAD_FILE = "/themis/calib/temp_rad_v4"
    CALIB_FLAG_IMAGE = "S55586003EDR.QUB"
    CALIB_FLAG_DN = (131.326050, 130.621857, 130.107285)
    CALIB_FLAG_FILTER = 1
    CALIB_FLAG_OPTION = 2
    CALIB_FLAG_TEMP = -12.61849976
    DESTRIPE_OPTION_X = 3
    DESTRIPE_OPTION_Y = 3
    DESTRIPE_FILTER_X = 9
    DESTRIPE_FILTER_Y = 9
    STRAYLIGHT_GEOMETRY = "Reconstructed"
    STRAYLIGHT_XDELTA = (3, 0, 0)
    STRAYLIGHT_YOFFSET = (299, 0, 0)
    STRAYLIGHT_DEFOCUS_FILTER = (25, 0, 0)
    STRAYLIGHT_TDI_SMEAR_FILTER = (1.000000, 0.000000, 1.000000, 0.000000, 1.000000, 0.000000, 1.000000, 0.000000, 1.000000, 0.000000, 1.000000, 0.000000, 1.000000, 0.000000, 1.000000, 0.000000, 1.000000, 0.000000, 1.000000, 0.000000, 1.000000, 0.000000, 1.000000, 0.000000, 1.000000, 0.000000, 1.000000, 0.000000, 1.000000, 0.000000, 1.000000, 0.000000)
    STRAYLIGHT_PERCENT = (4.500000, 0.000000, 0.000000)
  END_GROUP = PARAMETERS
END_GROUP = CAL_IR_IMAGE
GROUP = ERRATA_ODTIR_0050_1_1
  DATE_TIME = "2016-07-01T00:00:00"
  ERRATA_DESC = "This IR-RDR product was regenerated using an improved model of spacecraft position at the time the image was collected; this is one of the parameters in the calibration process. Associated ERRATA_ID: ODTIB-0050-1.1 ODTIG-0050-2.1 ODTIP-0050-2.1 ODTID-0050-2.1"
  ERRATA_ID = "ODTIR-0050-1.1"
  USER_NAME = "murray@olympus"
  USER_NOTE = ""
END_GROUP = ERRATA_ODTIR_0050_1_1
GROUP = GEOMETRY_QUALITY
  DATE_TIME = 2017-06-30T19:25:28
  SOFTWARE_DESC = "The quality of the projected location of a THEMIS image can be affected by multiple factors, which are summarized here along with the assessed GEOMETRY_QUALITY_RATING. See the GEOMETRY/GEOMETRY.PDF for a full discussion of the individual parameters."
  GROUP = PARAMETERS
    GEOMETRY_SOURCE_DESC = "RECONSTRUCTED"
    SPACECRAFT_ATTITUDE_DESC = "(GYRO,TRACKING)"
    SPACECRAFT_ATTITUDE_ERROR = (-0.0008, -0.0022, 0.0109)
    SPACECRAFT_DESAT_EVENT = "NO"
    SPACECRAFT_TELEMETRY_GAP = "NO"
    ASU_BASEMAP_COREG = "YES"
    GEOMETRY_QUALITY_RATING = "GOOD"
  END_GROUP = PARAMETERS
END_GROUP = GEOMETRY_QUALITY
GROUP = THM2ISIS
  IsisVersion = "3.4.9.6114 stable | 2015-03-26"
  ProgramVersion = 2014-05-16
  ProgramPath = /mars/common/isis3/3.4.9_64/isis/bin
  ExecutionDateTime = 2016-12-05T11:26:56
  HostName = mvc02a
  UserName = murray
  Description = "Import a Themis IR/VIS RDR or EDR"
  GROUP = PARAMETERS
    FROM = /themis/data/mapping/RDR_calib/I555XXRDR/I55586002RDR.QUB
    TO = /tmp/dv_25040/I55586002RDR.I3.cub
    TIMEOFFSET = 0
  END_GROUP = PARAMETERS
END_GROUP = THM2ISIS
GROUP = ASU_PROCESS_UDDW
  date_time = 2016-12-05T11:27:01
  software_desc = "The Undrift-Dewobble filter was applied to this THEMIS IR-RDR QUBE to remove data value fluxuations caused by changes in the temperature of the IR detector array. Band 10 values remain unchanged. See Bandfield, et.al, doi:10.1029/2004JE002289"
  version_id = 1.84
  user_name = murray@mvc02a
  GROUP = PARAMETERS
    unscale_data = 1
    dropout_correction = 1
    TES_band10 = 177.8
    THEMIS_band10 = 172.0
    force_fit2TES = 0
    project_image = 0
    rtilt_ramp = 4000
  END_GROUP = PARAMETERS
END_GROUP = ASU_PROCESS_UDDW
GROUP = DAVISIS3
  DavinciVersion = "daVinci Version #2.09"
  DavinciIsis3ModuleVersion = "0.9.6 (ISIS 3.4.x)"
  ExecutionDateTime = 2016-12-05T18:27:13
  HostName = mvc02a
  UserName = murray
  Description = "ISIS3 cube written from davinci."
END_GROUP = DAVISIS3
GROUP = SPICEINIT
  IsisVersion = "3.4.9.6114 stable | 2015-03-26"
  ProgramVersion = 2014-04-27
  ProgramPath = /mars/common/isis3/3.4.9_64/isis/bin
  ExecutionDateTime = 2016-12-05T11:27:14
  HostName = mvc02a
  UserName = murray
  Description = "Update SPICE data (kernels, pointing, and position) for a camera cube"
  GROUP = PARAMETERS
    FROM = /tmp/I55586002/I55586002UDDW.L1.cub
    WEB = false
    ATTACH = TRUE
    CKSMITHED = FALSE
    CKRECON = yes
    CKPREDICTED = FALSE
    CKNADIR = no
    SPKSMITHED = FALSE
    SPKRECON = TRUE
    SPKPREDICTED = FALSE
    SHAPE = SYSTEM
    STARTPAD = 0.0
    ENDPAD = 0.0
    URL = http://services.isis.astrogeology.usgs.gov/cgi-bin/spicein- it.cgi
    PORT = 80
  END_GROUP = PARAMETERS
  GROUP = KERNELS
    NaifFrameCode = -53031
    LeapSecond = /themis/naif/data/naif0012.tls
    TargetAttitudeShape = $base/kernels/pck/pck00009.tpc
    TargetPosition = (Table, $base/kernels/spk/de405.bsp)
    InstrumentPointing = (Table, /themis/naif/ck/m01_sc_ext39.bc, $odyssey/kernels/fk/m01_v29.tf)
    Instrument = Null
    SpacecraftClock = /themis/naif/data/ORB1_SCLKSCET.00219.tsc
    InstrumentPosition = (Table, /themis/naif/spk/spk_m_od55583-55677_rec_v1.b- sp)
    InstrumentAddendum = $odyssey/kernels/iak/themisAddendum003.ti
    ShapeModel = $base/dems/molaMarsPlanetaryRadius0005.cub
    InstrumentPositionQuality = Reconstructed
    InstrumentPointingQuality = Reconstructed
    CameraVersion = 2
  END_GROUP = KERNELS
END_GROUP = SPICEINIT
GROUP = CUBEATT_BSQ2TILE
  IsisVersion = "3.4.9.6114 stable | 2015-03-26"
  ProgramVersion = 2014-04-07
  ProgramPath = /mars/common/isis3/3.4.9_64/isis/bin
  ExecutionDateTime = 2016-12-05T11:27:18
  HostName = mvc02a
  UserName = murray
  Description = "Cube attribute editor"
  GROUP = PARAMETERS
    FROM = /tmp/I55586002/I55586002UDDW.L1.cub
    TO = /tmp/I55586002/I55586002.L1tile.cub+tile
    PROPTABLES = true
  END_GROUP = PARAMETERS
END_GROUP = CUBEATT_BSQ2TILE
GROUP = CAM2MAP
  IsisVersion = "3.4.9.6114 stable | 2015-03-26"
  ProgramVersion = 2013-07-11
  ProgramPath = /mars/common/isis3/3.4.9_64/isis/bin
  ExecutionDateTime = 2016-12-05T11:27:19
  HostName = mvc02a
  UserName = murray
  Description = "Convert camera image to a map projection"
  GROUP = PARAMETERS
    FROM = /tmp/I55586002/I55586002.L1tile.cub
    MAP = /tmp/I55586002/I55586002.maptemplate
    TO = /tmp/I55586002/I55586002EQR.proj.cub
    MATCHMAP = false
    PIXRES = map
    DEFAULTRANGE = MINIMIZE
    LONSEAM = AUTO
    INTERP = bilinear
    WARPALGORITHM = AUTOMATIC
  END_GROUP = PARAMETERS
  GROUP = MAPPING
    ProjectionName = Equirectangular
    CenterLongitude = 180.0
    TargetName = MARS
    EquatorialRadius = 3396190.0
    PolarRadius = 3376200.0
    LatitudeType = Planetocentric
    LongitudeDirection = PositiveEast
    LongitudeDomain = 360
    MinimumLatitude = -25.528276776087
    MaximumLatitude = -7.314593632034
    MinimumLongitude = 152.49906441165
    MaximumLongitude = 155.64508197481
    UpperLeftCornerX = -1574000.0
    UpperLeftCornerY = -433300.0
    PixelResolution = 100.0
    Scale = 592.51132320159
    CenterLatitude = -15.0
    LocalRadius = 3387693.25000
  END_GROUP = MAPPING
END_GROUP = CAM2MAP
GROUP = EDITLAB
  IsisVersion = "3.4.9.6114 stable | 2015-03-26"
  ProgramVersion = 2012-12-20
  ProgramPath = /mars/common/isis3/3.4.9_64/isis/bin
  ExecutionDateTime = 2016-12-05T11:29:52
  HostName = mvc02a
  UserName = murray
  Description = "Modifies cube labels"
  GROUP = PARAMETERS
    FROM = /tmp/I55586002/I55586002EQR.proj.cub
    OPTIONS = addkey
    GRPNAME = Mapping
    KEYWORD = LocalRadius
    VALUE = 3387693.25000
  END_GROUP = PARAMETERS
END_GROUP = EDITLAB
GROUP = SPECPIX
  IsisVersion = "3.4.9.6114 stable | 2015-03-26"
  ProgramVersion = 2011-08-31
  ProgramPath = /mars/common/isis3/3.4.9_64/isis/bin
  ExecutionDateTime = 2016-12-05T11:29:52
  HostName = mvc02a
  UserName = murray
  Description = "Replace user specified pixels with Isis special pixel values"
  GROUP = PARAMETERS
    FROM = /tmp/I55586002/I55586002EQR.proj.cub
    TO = /tmp/I55586002/I55586002EQR.proj.0.cub
    NULLMIN = -32770.0
    NULLMAX = -1.0
  END_GROUP = PARAMETERS
END_GROUP = SPECPIX
GROUP = CUBEATT_TILE2BSQ
  IsisVersion = "3.4.9.6114 stable | 2015-03-26"
  ProgramVersion = 2014-04-07
  ProgramPath = /mars/common/isis3/3.4.9_64/isis/bin
  ExecutionDateTime = 2018-10-08T11:43:10
  HostName = mvc09b
  UserName = murray
  Description = "Cube attribute editor"
  GROUP = PARAMETERS
    FROM = /themis/data/mapping/GEO_cub/I555XXGEO/I55586002EQR.CUB
    TO = /themis/data/mapping/GEO_cub/I555XXGEO/I55586002EQR.cub+Band- Sequential
    PROPTABLES = true
  END_GROUP = PARAMETERS
END_GROUP = CUBEATT_TILE2BSQ
GROUP = ERRATA_ODTIG_0050_2_1
  DATE_TIME = "2016-07-01T00:00:00"
  ERRATA_DESC = "This IR-GEO product was regenerated using a revised source IR-RDR, updated ISIS software (version 3.4.9), and an improved model of the spacecraft position at the time the image was collected. Associated ERRATA_ID: ODTIR-0050-1.1 ODTIP-0050-2.1 ODTID-0050-2.1"
  ERRATA_ID = "ODTIG-0050-2.1"
  USER_NAME = "murray@olympus"
  USER_NOTE = ""
END_GROUP = ERRATA_ODTIG_0050_2_1
GROUP = ERRATA_ODTIG_0050_2_2
  DATE_TIME = "2018-11-01T00:00:00"
  ERRATA_DESC = "This CUB was reformatted to BAND_STORAGE_TYPE = Band_Sequential using the ISIS3 function cubeatt. Incorrect GEOMETRY_QUALITY values in the header may also have been updated. The image data was not otherwise modified. Associated ERRATA_ID: none"
  ERRATA_ID = "ERRATA_ODTIG_0050_2_2"
  USER_NAME = "murray@olympus"
  USER_NOTE = ""
END_GROUP = ERRATA_ODTIG_0050_2_2
END
