PDS_VERSION_ID = PDS3
OBJECT = COMPRESSED_FILE
  FILE_NAME = "I82333011POL.CUB.gz"
  RECORD_TYPE = UNDEFINED
  ENCODING_TYPE = ZIP
  ENCODING_TYPE_VERSION_NAME = "GZIP/1.3.12"
  INTERCHANGE_FORMAT = BINARY
  UNCOMPRESSED_FILE_NAME = "I82333011POL.CUB"
  REQUIRED_STORAGE_BYTES = 25676676
  ^DESCRIPTION = "ZIPINFO.TXT"
END_OBJECT = COMPRESSED_FILE
OBJECT = UNCOMPRESSED_FILE
  /* File Identification and Structure */
  RECORD_TYPE = "FIXED_LENGTH"
  RECORD_BYTES = 337
  FILE_RECORDS = 25676676
  /* Pointers to Data Objects */
  ^HISTORY = 4645
  ^HEADER = ("I82333011POL.CUB")
  ^QUBE = ("I82333011POL.CUB", 65537)
  /* Identification Data Elements */
  MISSION_NAME = "2001 MARS ODYSSEY"
  INSTRUMENT_HOST_NAME = "2001 MARS ODYSSEY"
  INSTRUMENT_NAME = "THERMAL EMISSION IMAGING SYSTEM"
  INSTRUMENT_ID = "THEMIS"
  DETECTOR_ID = "IR"
  MISSION_PHASE_NAME = "EXTENDED-8"
  SPACECRAFT_ORIENTATION_DESC = (PITCH, ROLL, YAW)
  SPACECRAFT_ORIENTATION = (0, 0, 0)
  SPACECRAFT_POINTING_MODE = "NADIR"
  ^SPACECRAFT_POINTING_MODE_DESC = "ODY_ORIENT_POINT.TXT"
  TARGET_NAME = "MARS"
  PRODUCT_ID = "I82333011POL"
  PRODUCER_ID = "ODY_THM_TEAM"
  DATA_SET_ID = "ODY-M-THM-5-IRGEO-V2.0"
  PRODUCT_CREATION_TIME = 2020-10-08T17:24:40
  PRODUCT_VERSION_ID = "2.0"
  SOURCE_PRODUCT_VERSION_ID = "1.0"
  RELEASE_ID = "0075"
  START_TIME = 2020-07-06T14:11:25.766
  STOP_TIME = 2020-07-06T14:12:26.031
  SPACECRAFT_CLOCK_START_COUNT = "1278512607.025"
  SPACECRAFT_CLOCK_STOP_COUNT = "1278512667.093"
  START_TIME_ET = 647316755.000
  STOP_TIME_ET = 647316815.200
  ORBIT_NUMBER = 82333
  /* History Object Structure */
  OBJECT = HISTORY
    BYTES = 10568
    HISTORY_TYPE = CUSTOM
    INTERCHANGE_FORMAT = ASCII
  END_OBJECT = HISTORY
  OBJECT = QUBE
    /* QUBE Structure */
    AXES = 3
    AXIS_NAME = (SAMPLE, LINE, BAND)
    BAND_STORAGE_TYPE = BAND_SEQUENTIAL
    /* Core Description */
    CORE_ITEMS = (337,1899,10)
    CORE_NAME = "CALIBRATED_SPECTRAL_RADIANCE"
    CORE_ITEM_BYTES = 4
    CORE_ITEM_TYPE = PC_REAL
    CORE_BASE = 0.0
    CORE_MULTIPLIER = 1.0
    CORE_UNIT = "WATT*CM**-2*SR**-1*UM**-1"
    CORE_NULL = -3.40282e+38
    CORE_VALID_MINIMUM = -3.40282e+38
    CORE_LOW_REPR_SATURATION = -3.40282e+38
    CORE_LOW_INSTR_SATURATION = -3.40282e+38
    CORE_HIGH_REPR_SATURATION = -3.40282e+38
    CORE_HIGH_INSTR_SATURATION = -3.40282e+38
    /* Observation Parameters */
    FLIGHT_SOFTWARE_VERSION_ID = "1.00"
    COMMAND_SEQUENCE_NUMBER = 82333
    IMAGE_ID = 11
    DESCRIPTION = "-70 deg day atmos"
    INST_CMPRS_RATIO = 2.70
    UNCORRECTED_SCLK_START_COUNT = "1278512607.025"
    IMAGE_DURATION = 60.267
    GAIN_NUMBER = 16
    OFFSET_NUMBER = 4
    TIME_DELAY_INTEGRATION_FLAG = "ENABLED"
    RICE_FLAG = "ENABLED"
    SPATIAL_SUMMING = 1
    PARTIAL_SUM_LINES = "N/A"
    MISSING_SCAN_LINES = 0
    MD5_CHECKSUM = "54e3476bdb4c710aca10a41767ba3a9e"
    /* Band Bins */
    GROUP = BAND_BIN
      BAND_BIN_FILTER_NUMBER = (1, 2, 3, 4, 5, 6, 7, 8, 9, 10)
      BAND_BIN_BAND_NUMBER = (1, 2, 3, 4, 5, 6, 7, 8, 9, 10)
      BAND_BIN_CENTER = (6.78, 6.78, 7.93, 8.56, 9.35, 10.21, 11.04, 11.79, 12.57, 14.88)
      BAND_BIN_WIDTH = (1.01, 1.01, 1.09, 1.16, 1.20, 1.10, 1.19, 1.07, 0.81, 0.87)
      BAND_BIN_UNIT = "MICROMETER"
    END_GROUP = BAND_BIN
  END_OBJECT = QUBE
END_OBJECT = UNCOMPRESSED_FILE
/* Data Object Definition */
OBJECT = IMAGE_MAP_PROJECTION
  ^DATA_SET_MAP_PROJECTION = "DSMAP_POL.CAT"
  GEOMETRY_SOURCE_DESC = "Reconstructed"
  COORDINATE_SYSTEM_TYPE = "BODY-FIXED ROTATING"
  COORDINATE_SYSTEM_NAME = "PLANETOCENTRIC"
  MAP_PROJECTION_TYPE = "POLAR_STEREOGRAPHIC"
  MAP_PROJECTION_ROTATION = 0
  MAP_LONGITUDE_SYSTEM = 360
  A_AXIS_RADIUS = 3396.190
  B_AXIS_RADIUS = "N/A"
  C_AXIS_RADIUS = 3376.2
  FIRST_STANDARD_PARALLEL = "N/A"
  SECOND_STANDARD_PARALLEL = "N/A"
  POSITIVE_LONGITUDE_DIRECTION = "EAST"
  REFERENCE_LATITUDE = "N/A"
  REFERENCE_LONGITUDE = "N/A"
  CENTER_LATITUDE = -90.000
  CENTER_LONGITUDE = 189.272
  MINIMUM_LATITUDE = -73.291604
  MAXIMUM_LATITUDE = -70.131225
  WESTERNMOST_LONGITUDE = 177.018659
  EASTERNMOST_LONGITUDE = 180.582251
  MAP_SCALE = 0.100
  MAP_RESOLUTION = 589.258062
  SAMPLE_PROJECTION_OFFSET = 2117.500
  LINE_PROJECTION_OFFSET = 11644.500
  SAMPLE_FIRST_PIXEL = 1
  LINE_FIRST_PIXEL = 1
  SAMPLE_LAST_PIXEL = 337
  LINE_LAST_PIXEL = 1899
END_OBJECT = IMAGE_MAP_PROJECTION
END
GROUP = SFDU2CUBE
  DATE_TIME = 2020-07-07T16:31:07
  SOFTWARE_DESC = "Translation of data format from SFDU into raw image qube(THM-EDR). Removes SFDU headers and unpackages data; returns an individual spectral image QUBE (THM-EDR) containing raw DN, with missing data CORE_NULL filled and an attched PDS label"
  VERSION_ID = 1.69
  USER_NAME = "murray@olympus"
  USER_NOTE = ""
  GROUP = PARAMETERS
    START_SFDU_ID = "1278519150"
    STOP_SFDU_ID = "1278519216"
    ERT_START_TIME = "2020-188 // 16:08:32"
    ERT_STOP_TIME = "2020-188 // 16:10:58"
    MISSING_PACKETS = 0
    FOUND_PACKETS = 983
  END_GROUP = PARAMETERS
END_GROUP = SFDU2CUBE
GROUP = CAL_IR_IMAGE
  DATE_TIME = 2020-10-07T20:06:24
  SOFTWARE_DESC = "Calibration of a raw, infrared image (IREDR). Uses DN, gain and offset values from raw image with the instrument response function and a calibration flag image (IREDR); returns a calibrated spectral radiance image (IRRDR) in (W cm-2 str-1 um-1)."
  VERSION_ID = 5.20
  DAVINCI_VERSION = 2.09
  USER_NAME = "murray@mvc14b"
  USER_NOTE = ""
  GROUP = PARAMETERS
    IREDR_FILE = "I82333011EDR.QUB"
    IR_IMG_CAL_QUBE_VER = 5.20
    IRF_FILE = "/themis/calib/irf_fit_all_v3.0_tv6_1_2_v3.0"
    TEMP2RAD_FILE = "/themis/calib/temp_rad_v4"
    CALIB_FLAG_IMAGE = "S82333012EDR.QUB"
    CALIB_FLAG_DN = (216.526047, 216.626038, 215.466675, 214.600021, 215.039597, 214.859375, 215.396881, 215.496902, 215.681274, 216.363556)
    CALIB_FLAG_FILTER = 1
    CALIB_FLAG_OPTION = 2
    CALIB_FLAG_TEMP = -6.068749905
    DESTRIPE_OPTION_X = 3
    DESTRIPE_OPTION_Y = 3
    DESTRIPE_FILTER_X = 9
    DESTRIPE_FILTER_Y = 9
    STRAYLIGHT_GEOMETRY = "Reconstructed"
    STRAYLIGHT_XDELTA = (0, 0, 3, 3, 3, 3, 1, 1, 0, 0)
    STRAYLIGHT_YOFFSET = (0, 0, 349, 299, 249, 202, 152, 103, 0, 0)
    STRAYLIGHT_DEFOCUS_FILTER = (0, 0, 29, 25, 21, 15, 9, 5, 0, 0)
    STRAYLIGHT_TDI_SMEAR_FILTER = (1.000000, 0.000000, 1.000000, 0.000000, 1.000000, 0.000000, 1.000000, 0.000000, 1.000000, 0.000000, 1.000000, 0.000000, 1.000000, 0.000000, 1.000000, 0.000000, 1.000000, 0.000000, 1.000000, 0.000000, 1.000000, 0.000000, 1.000000, 0.000000, 1.000000, 0.000000, 1.000000, 0.000000, 1.000000, 0.000000, 1.000000, 0.000000)
    STRAYLIGHT_PERCENT = (0.000000, 0.000000, 2.000000, 4.500000, 6.000000, 5.500000, 5.000000, 5.000000, 0.000000, 0.000000)
  END_GROUP = PARAMETERS
END_GROUP = CAL_IR_IMAGE
GROUP = THM2ISIS
  IsisVersion = "3.4.9.6114 stable | 2015-03-26"
  ProgramVersion = 2014-05-16
  ProgramPath = /mars/common/isis3/3.4.9_64/isis/bin
  ExecutionDateTime = 2020-10-08T17:24:37
  HostName = mc70
  UserName = murray
  Description = "Import a Themis IR/VIS RDR or EDR"
  GROUP = PARAMETERS
    FROM = /themis/data/mapping/RDR_calib/I823XXRDR/I82333011RDR.QUB
    TO = /tmp/dv_19624/I82333011RDR.I3.cub
    TIMEOFFSET = 0
  END_GROUP = PARAMETERS
END_GROUP = THM2ISIS
GROUP = ASU_PROCESS_UDDW
  date_time = 2020-10-08T17:24:40
  software_desc = "The Undrift-Dewobble filter was applied to this THEMIS IR-RDR QUBE to remove data value fluxuations caused by changes in the temperature of the IR detector array. Band 10 values remain unchanged. See Bandfield, et.al, doi:10.1029/2004JE002289"
  version_id = 1.84
  user_name = murray@mc70
  GROUP = PARAMETERS
    unscale_data = 1
    dropout_correction = 1
    TES_band10 = 199.3
    THEMIS_band10 = 200.5
    force_fit2TES = 0
    project_image = 0
    rtilt_ramp = 4000
  END_GROUP = PARAMETERS
END_GROUP = ASU_PROCESS_UDDW
GROUP = DAVISIS3
  DavinciVersion = "daVinci Version #2.09"
  DavinciIsis3ModuleVersion = "0.9.6 (ISIS 3.4.x)"
  ExecutionDateTime = 2020-10-09T00:24:43
  HostName = mc70
  UserName = murray
  Description = "ISIS3 cube written from davinci."
END_GROUP = DAVISIS3
GROUP = SPICEINIT
  IsisVersion = "3.4.9.6114 stable | 2015-03-26"
  ProgramVersion = 2014-04-27
  ProgramPath = /mars/common/isis3/3.4.9_64/isis/bin
  ExecutionDateTime = 2020-10-08T17:24:43
  HostName = mc70
  UserName = murray
  Description = "Update SPICE data (kernels, pointing, and position) for a camera cube"
  GROUP = PARAMETERS
    FROM = /tmp/I82333011/I82333011UDDW.L1.cub
    WEB = false
    ATTACH = TRUE
    CKSMITHED = FALSE
    CKRECON = yes
    CKPREDICTED = FALSE
    CKNADIR = no
    SPKSMITHED = FALSE
    SPKRECON = TRUE
    SPKPREDICTED = FALSE
    SHAPE = SYSTEM
    STARTPAD = 0.0
    ENDPAD = 0.0
    URL = http://services.isis.astrogeology.usgs.gov/cgi-bin/spicein- it.cgi
    PORT = 80
  END_GROUP = PARAMETERS
  GROUP = KERNELS
    NaifFrameCode = -53031
    LeapSecond = /themis/naif/data/naif0012.tls
    TargetAttitudeShape = $base/kernels/pck/pck00009.tpc
    TargetPosition = (Table, $base/kernels/spk/de405.bsp)
    InstrumentPointing = (Table, /themis/naif/ck/m01_sc_ext64_vA.bc, $odyssey/kernels/fk/m01_v29.tf)
    Instrument = Null
    SpacecraftClock = /themis/naif/data/ORB1_SCLKSCET.00260.tsc
    InstrumentPosition = (Table, /themis/naif/spk/spk_m_od82269-82371_rec_v1.b- sp)
    InstrumentAddendum = $odyssey/kernels/iak/themisAddendum003.ti
    ShapeModel = $base/dems/molaMarsPlanetaryRadius0005.cub
    InstrumentPositionQuality = Reconstructed
    InstrumentPointingQuality = Reconstructed
    CameraVersion = 2
  END_GROUP = KERNELS
END_GROUP = SPICEINIT
GROUP = CUBEATT_BSQ2TILE
  IsisVersion = "3.4.9.6114 stable | 2015-03-26"
  ProgramVersion = 2014-04-07
  ProgramPath = /mars/common/isis3/3.4.9_64/isis/bin
  ExecutionDateTime = 2020-10-08T17:24:45
  HostName = mc70
  UserName = murray
  Description = "Cube attribute editor"
  GROUP = PARAMETERS
    FROM = /tmp/I82333011/I82333011UDDW.L1.cub
    TO = /tmp/I82333011/I82333011.L1tile.cub+tile
    PROPTABLES = true
  END_GROUP = PARAMETERS
END_GROUP = CUBEATT_BSQ2TILE
GROUP = CAM2MAP
  IsisVersion = "3.4.9.6114 stable | 2015-03-26"
  ProgramVersion = 2013-07-11
  ProgramPath = /mars/common/isis3/3.4.9_64/isis/bin
  ExecutionDateTime = 2020-10-08T17:24:46
  HostName = mc70
  UserName = murray
  Description = "Convert camera image to a map projection"
  GROUP = PARAMETERS
    FROM = /tmp/I82333011/I82333011.L1tile.cub
    MAP = /tmp/I82333011/I82333011.maptemplate
    TO = /tmp/I82333011/I82333011POL.proj.cub
    MATCHMAP = false
    PIXRES = map
    DEFAULTRANGE = MINIMIZE
    LONSEAM = AUTO
    INTERP = bilinear
    WARPALGORITHM = AUTOMATIC
  END_GROUP = PARAMETERS
  GROUP = MAPPING
    ProjectionName = PolarStereographic
    CenterLongitude = 189.272
    TargetName = MARS
    EquatorialRadius = 3396190.0
    PolarRadius = 3376200.0
    LatitudeType = Planetocentric
    LongitudeDirection = PositiveEast
    LongitudeDomain = 360
    MinimumLatitude = -73.291603698982
    MaximumLatitude = -70.131224973623
    MinimumLongitude = 177.01865873308
    MaximumLongitude = 180.58225115824
    UpperLeftCornerX = -211700.0
    UpperLeftCornerY = 1164400.0
    PixelResolution = 100.0
    Scale = 589.25806205833
    CenterLatitude = -90.0
  END_GROUP = MAPPING
END_GROUP = CAM2MAP
GROUP = CUBEATT_TILE2BSQ
  IsisVersion = "3.4.9.6114 stable | 2015-03-26"
  ProgramVersion = 2014-04-07
  ProgramPath = /mars/common/isis3/3.4.9_64/isis/bin
  ExecutionDateTime = 2020-10-08T17:25:24
  HostName = mc70
  UserName = murray
  Description = "Cube attribute editor"
  GROUP = PARAMETERS
    FROM = /tmp/I82333011/I82333011POL.proj.0.cub
    TO = /tmp/I82333011/I82333011.bsq.cub+BandSequential
    PROPTABLES = true
  END_GROUP = PARAMETERS
END_GROUP = CUBEATT_TILE2BSQ
GROUP = GEOMETRY_QUALITY
  DATE_TIME = 2021-02-25T11:13:21
  SOFTWARE_DESC = "The quality of the projected location of a THEMIS image can be affected by multiple factors, some of which are summarized here along with the assessed _QUALITY_RATING keywords. See the GEOMETRY/GEOMETRY.PDF for a full discussion of the individual parameters."
  GROUP = PARAMETERS
    GEOMETRY_SOURCE_DESC = "RECONSTRUCTED"
    SPACECRAFT_ORBITAL_NODE = "DESCENDING"
    SPACECRAFT_ATTITUDE_DESC = "(ALLSTAR,TRACKING)"
    SPACECRAFT_ATTITUDE_ERROR = (-0.0118, 0.0073, -0.0303)
    SPACECRAFT_DESAT_EVENT = "NO"
    SPACECRAFT_TELEMETRY_GAP = "NO"
    ASU_BASEMAP_NAME = "N/A"
    ASU_BASEMAP_COREG = "N/A"
    SPACECRAFT_ATTITUDE_CHANGE = (0.050, 0.013, 0.039)
    ATTITUDE_QUALITY_RATING = "STABLE"
    GEOMETRY_QUALITY_RATING = "NO-ISSUES"
  END_GROUP = PARAMETERS
END_GROUP = GEOMETRY_QUALITY
END
