PDS_VERSION_ID = PDS3
/* File Identification and Structure */
RECORD_TYPE = "FIXED_LENGTH"
RECORD_BYTES = 512
FILE_RECORDS = 75744
/* Pointers to Data Objects */
^HISTORY = 3119
^HEADER = ("V39664011LOC.CUB")
^QUBE = ("V39664011LOC.CUB", 79 )
/* Identification Data Elements */
MISSION_NAME = "2001 MARS ODYSSEY"
INSTRUMENT_HOST_NAME = "2001 MARS ODYSSEY"
INSTRUMENT_NAME = "THERMAL EMISSION IMAGING SYSTEM"
INSTRUMENT_ID = "THEMIS"
DETECTOR_ID = "VIS"
MISSION_PHASE_NAME = "EXTENDED-4"
SPACECRAFT_ORIENTATION_DESC = (PITCH, ROLL, YAW)
SPACECRAFT_ORIENTATION = (0, 0, 0)
SPACECRAFT_POINTING_MODE = "NADIR"
^SPACECRAFT_POINTING_MODE_DESC = "ODY_ORIENT_POINT.TXT"
TARGET_NAME = "MARS"
PRODUCT_ID = "V39664011LOC"
PRODUCER_ID = "ODY_THM_TEAM"
DATA_SET_ID = "ODY-M-THM-5-VISGEO-V1.0"
PRODUCT_CREATION_TIME = 2010-11-29T21:24:33
PRODUCT_VERSION_ID = "1.0"
SOURCE_PRODUCT_VERSION_ID = "1.0"
RELEASE_ID = "0036"
START_TIME = 2010-11-23T05:15:06.361
STOP_TIME = 2010-11-23T05:17:48.361
SPACECRAFT_CLOCK_START_COUNT = "974957011.076"
SPACECRAFT_CLOCK_STOP_COUNT = "974957173.076"
START_TIME_ET = 343761372.544
STOP_TIME_ET = 343761534.544
ORBIT_NUMBER = 39664
/* History Object Structure */
OBJECT = HISTORY
  BYTES = 5797
  HISTORY_TYPE = CUSTOM
  INTERCHANGE_FORMAT = ASCII
END_OBJECT = HISTORY
OBJECT = QUBE
  /* QUBE Structure */
  AXES = 3
  AXIS_NAME = (SAMPLE, LINE, BAND)
  /* Core Description */
  CORE_ITEMS = (2708,7153,1)
  CORE_NAME = "CALIBRATED_SPECTRAL_RADIANCE"
  CORE_ITEM_BYTES = 2
  CORE_ITEM_TYPE = LSB_INTEGER
  CORE_BASE = 1.726498e-03
  CORE_MULTIPLIER = 5.270251e-08
  CORE_UNIT = "WATT*CM**-2*SR**-1*UM**-1"
  CORE_NULL = -32768
  CORE_VALID_MINIMUM = -32752
  CORE_LOW_INSTR_SATURATION = -32766
  CORE_LOW_REPR_SATURATION = -32767
  CORE_HIGH_INSTR_SATURATION = -32765
  CORE_HIGH_REPR_SATURATION = -32764
  /* Observation Parameters */
  FLIGHT_SOFTWARE_VERSION_ID = "1.00"
  COMMAND_SEQUENCE_NUMBER = 39664
  IMAGE_ID = 11
  DESCRIPTION = "No Description Given"
  INST_CMPRS_RATIO = 1.84
  UNCORRECTED_SCLK_START_COUNT = "974957013.025"
  IMAGE_DURATION = 162.000
  INST_CMPRS_NAME = "PREDICTIVE"
  FOCAL_PLANE_TEMPERATURE = 0.56
  EXPOSURE_DURATION = 0.800
  INTERFRAME_DELAY = 0.900
  SPATIAL_SUMMING = 4
  MD5_CHECKSUM = "d35e3d8b5fe3bf7f6e3a2e0f2b097ecc"
  /* Band Bins */
  GROUP = BAND_BIN
    BAND_BIN_FILTER_NUMBER = (3)
    BAND_BIN_BAND_NUMBER = (3)
    BAND_BIN_CENTER = (0.65)
    BAND_BIN_WIDTH = (0.05)
    BAND_BIN_UNIT = "MICROMETER"
  END_GROUP = BAND_BIN
END_OBJECT = QUBE
END
GROUP = SFDU2CUBE
  DATE_TIME = 2010-11-24T17:13:31
  SOFTWARE_DESC = "Translation of data format from SFDU into raw image qube(THM-EDR). Removes SFDU headers and unpackages data; returns an individual spectral image QUBE (THM-EDR) containing raw DN, with missing data CORE_NULL filled and an attched PDS label"
  VERSION_ID = 1.68
  USER_NAME = "jhill@sirenum"
  USER_NOTE = ""
  GROUP = PARAMETERS
    START_SFDU_ID = "974961450"
    STOP_SFDU_ID = "974961571"
    ERT_START_TIME = "2010-327 // 06:55:10"
    ERT_STOP_TIME = "2010-327 // 06:58:00"
    MISSING_PACKETS = 0
    FOUND_PACKETS = 550
  END_GROUP = PARAMETERS
END_GROUP = SFDU2CUBE
GROUP = CAL_VIS_IMAGE
  DATE_TIME = 2010-11-29T20:04:11
  SOFTWARE_DESC = "Calibration of a raw, visible image (VISEDR). Calibration includes 8-bit to 11-bit decoding, removal of instrumental effects, and conversion to spectral radiance (W cm-2 str-1 micron-1). The instrumental effects considered are detector bias, register stray light, photosite stray light, and variations in pixel sensitivity (i.e., 'flatfield' effects). Spectral radiance is calculated from the exposure time and from the decoded, instrumentally corrected DN levels of the raw image, using conversion factors (BAND_BIN_SENSITIVITY) derived from pre-flight tests. For additional details, see CALIB/PROCESS.PDF."
  VERSION_ID = 4.10
  USER_NAME = "murray@mvc19c"
  USER_NOTE = ""
  GROUP = PARAMETERS
    BIAS_FILE = "/themis/calib/vis/data/zeroframe4_bias.fits"
    BIAS_FILE_DATE = 2006-02-14T18:12:11
    DESMEAR_FILE = "/themis/calib/vis/data/zeroframe4_zero.fits"
    DESMEAR_FILE_DATE = 2006-02-14T18:12:11
    FLATFIELD_FILE = " /themis/calib/vis/data/flat_framesm2.prof4.fits"
    FLATFIELD_FILE_DATE = 2006-02-14T18:12:03
    STRAY_LIGHT_FILE = " /themis/calib/vis/data/destray12_frame4_v1.fits"
    STRAY_LIGHT_FILE_DATE = 2006-02-14T18:12:03
    STRAY_LIGHT_REMOVAL_VERSION = 8
    BAND_BIN_MODEL_COEFF = (1.3351E-05)
    BAND_BIN_MODEL_COEFF_UNITS = " (WATT*CM**-2*SR**-1*UM**-1)/(DN*MSEC**-1)"
    BAND_BIN_SMEAR_COEFF = 84000.
    BAND_BIN_SMEAR_COEFF_UNITS = "DN/(WATT*CM**-2*SR**-1*UM**-1)"
    BAND_BIN_STRAY_LIGHT_SENSITIVITY = (3000.)
    BAND_BIN_SENSITIVITY = (56050.)
    BAND_BIN_SENSITIVITY_UNITS = "(DN*MSEC**-1) per (WATT*CMM**-2*SR**-1*UM**-1)"
  END_GROUP = PARAMETERS
END_GROUP = CAL_VIS_IMAGE
GROUP = ASU_PROCESS_COFF
  DATE_TIME = 2010-11-29T21:24:33
  SOFTWARE_DESC = "The radiance values of this THEMIS VIS-RDR QUBE were modified before geometric projection. This is a cosmetic correction which removes an optimized flat-field from each framelet in the image. The process maintains the overall radiance level of each framelet at the expense of significantly modifying the source VIS-RDR radiance values."
  VERSION_ID = 2007.12
  DAVINCI_VERSION =
  USER_NAME = "murray@mvc19a"
  USER_NOTE = ""
  GROUP = PARAMETERS
    FLATFIELD_FILE = "/themis/data/flat_framesm2.prof1.fits"
    FLATFIELD_FILE_DATE = 2005-10-22T18:21:00
  END_GROUP = PARAMETERS
END_GROUP = ASU_PROCESS_COFF
GROUP = ISIS_PROJECTION
  DATE_TIME = 2010-11-29T21:24:33
  SOFTWARE_DESC = "ISIS geometric projection of a THEMIS QUBE. Process includes translation of file formats (PDS2ISIS and LEVINIT); determining the valid core data range (DSK2DSK); geometric transformation of image planes (GEOM); and merging the individual bands back together (MOSAIC and CUBEIT). See header of resulting ISIS cube for more details of projection. The ISIS_COMMAND parameter may also include additional processing steps that are described in other HISTORY groups in this label."
  VERSION_ID = "2.1.3_2004-10-22T17:28:07-7"
  USER_NAME = "murray@mvc19a"
  USER_NOTE = ""
  GROUP = PARAMETERS
    GEOMETRY_SOURCE_DESC = "Reconstructed"
    ISIS_COMMAND = "thm2isis.pl REPAIR/V39664011RDR \ thm_parameters.def.7 360 thmvismc.pl V39664011RDR.vismc.cub -- -- \ POLA:-90,279.570 -- -- -- -- -- -- -- -- -- \ -- -- -- 0.072"
    PDS2ISIS_VERSION = "2004-05-28"
    GEOM_VERSION = "2004-06-17"
    MOSAIC_VERSION = "2003-10-27"
    LONGITUDE_SYSTEM = 360
    MINIMUM_LATITUDE = -73.1210098
    MAXIMUM_LATITUDE = -64.8559647
    CENTER_LONGITUDE = 279.5700000
    WESTERNMOST_LONGITUDE = 267.1862488
    EASTERNMOST_LONGITUDE = 272.2303772
    MAP_RESOLUTION = 818.4139751
    MAP_SCALE = 0.0720000
    MAP_PROJECTION_TYPE = "POLAR_STEREOGRAPHIC"
    PROJECTION_LATITUDE_TYPE = ""
    LINE_PROJECTION_OFFSET = -20743.500000
    SAMPLE_PROJECTION_OFFSET = -4485.500000
  END_GROUP = PARAMETERS
END_GROUP = ISIS_PROJECTION
END
