PDS_VERSION_ID = PDS3
/* File Identification and Structure */
RECORD_TYPE = "FIXED_LENGTH"
RECORD_BYTES = 1225
FILE_RECORDS = 26223631
/* Pointers to Data Objects */
^HISTORY = 3962
^HEADER = ("V58319001EQR.CUB")
^QUBE = ("V58319001EQR.CUB", 65537)
/* Identification Data Elements */
MISSION_NAME = "2001 MARS ODYSSEY"
INSTRUMENT_HOST_NAME = "2001 MARS ODYSSEY"
INSTRUMENT_NAME = "THERMAL EMISSION IMAGING SYSTEM"
INSTRUMENT_ID = "THEMIS"
DETECTOR_ID = "VIS"
MISSION_PHASE_NAME = "EXTENDED-6"
SPACECRAFT_ORIENTATION_DESC = (PITCH,ROLL,YAW)
SPACECRAFT_ORIENTATION = (0,0,0)
SPACECRAFT_POINTING_MODE = "NADIR"
^SPACECRAFT_POINTING_MODE_DESC = "ODY_ORIENT_POINT.TXT"
TARGET_NAME = "MARS"
PRODUCT_ID = "V58319001EQR"
PRODUCER_ID = "ODY_THM_TEAM"
DATA_SET_ID = "ODY-M-THM-5-VISGEO-V2.0"
PRODUCT_CREATION_TIME = 2015-07-30T12:29:12
PRODUCT_VERSION_ID = "2.0"
RELEASE_ID = "0053"
SOURCE_PRODUCT_VERSION_ID = "1.0"
START_TIME = 2015-02-05T16:39:43.222
STOP_TIME = 2015-02-05T16:40:46.422
SPACECRAFT_CLOCK_START_COUNT = "1107622143.204"
SPACECRAFT_CLOCK_STOP_COUNT = "1107622206.255"
START_TIME_ET = 476426450.407
STOP_TIME_ET = 476426513.607
ORBIT_NUMBER = 58319
/* History Object Structure */
OBJECT = HISTORY
  BYTES = 12400
  HISTORY_TYPE = CUSTOM
  INTERCHANGE_FORMAT = ASCII
END_OBJECT = HISTORY
OBJECT = QUBE
  /* QUBE Structure */
  AXES = 3
  AXIS_NAME = (SAMPLE, LINE, BAND)
  BAND_STORAGE_TYPE = BAND_SEQUENTIAL
  /* Core Description */
  CORE_ITEMS = (1225,5336,1)
  CORE_NAME = "CALIBRATED_SPECTRAL_RADIANCE"
  CORE_ITEM_BYTES = 4
  CORE_ITEM_TYPE = PC_REAL
  CORE_BASE = 0.0
  CORE_MULTIPLIER = 1.0
  CORE_UNIT = "WATT*CM**-2*SR**-1*UM**-1"
  CORE_NULL = -3.40282e+38
  CORE_VALID_MINIMUM = -3.40282e+38
  CORE_LOW_INSTR_SATURATION = -3.40282e+38
  CORE_LOW_REPR_SATURATION = -3.40282e+38
  CORE_HIGH_INSTR_SATURATION = -3.40282e+38
  CORE_HIGH_REPR_SATURATION = -3.40282e+38
  /* Observation Parameters */
  FLIGHT_SOFTWARE_VERSION_ID = "1.00"
  COMMAND_SEQUENCE_NUMBER = 58319
  IMAGE_ID = 1
  DESCRIPTION = "No Description Given"
  INST_CMPRS_RATIO = 1.90
  UNCORRECTED_SCLK_START_COUNT = "1107622145.102"
  IMAGE_DURATION = 63.200
  INST_CMPRS_NAME = "PREDICTIVE"
  FOCAL_PLANE_TEMPERATURE = 2.02
  EXPOSURE_DURATION = 2.800
  INTERFRAME_DELAY = 0.800
  SPATIAL_SUMMING = 2
  MD5_CHECKSUM = "7c3bd3e23755891b6feb0560963cbe51"
  /* Band Bins */
  GROUP = BAND_BIN
    BAND_BIN_FILTER_NUMBER = (3)
    BAND_BIN_BAND_NUMBER = (3)
    BAND_BIN_CENTER = (0.65)
    BAND_BIN_WIDTH = (0.05)
    BAND_BIN_UNIT = "MICROMETER"
  END_GROUP = BAND_BIN
END_OBJECT = QUBE
/* Data Object Definition */
OBJECT = IMAGE_MAP_PROJECTION
  ^DATA_SET_MAP_PROJECTION = "DSMAP_EQR.CAT"
  GEOMETRY_SOURCE_DESC = "Reconstructed"
  COORDINATE_SYSTEM_TYPE = "BODY-FIXED ROTATING"
  COORDINATE_SYSTEM_NAME = "PLANETOCENTRIC"
  MAP_PROJECTION_TYPE = "EQUIRECTANGULAR"
  MAP_PROJECTION_ROTATION = 0
  MAP_LONGITUDE_SYSTEM = 360
  A_AXIS_RADIUS = 3395.840
  B_AXIS_RADIUS = 3395.840
  C_AXIS_RADIUS = 3395.840
  FIRST_STANDARD_PARALLEL = "N/A"
  SECOND_STANDARD_PARALLEL = "N/A"
  POSITIVE_LONGITUDE_DIRECTION = "EAST"
  REFERENCE_LATITUDE = "N/A"
  REFERENCE_LONGITUDE = "N/A"
  CENTER_LATITUDE = -25.000
  CENTER_LONGITUDE = 180
  MINIMUM_LATITUDE = -28.379300
  MAXIMUM_LATITUDE = -25.135600
  WESTERNMOST_LONGITUDE = 167.826000
  EASTERNMOST_LONGITUDE = 168.647000
  MAP_SCALE = 0.036
  MAP_RESOLUTION = 1644.780000
  SAMPLE_PROJECTION_OFFSET = 18148.500
  LINE_PROJECTION_OFFSET = -41341.444
  SAMPLE_FIRST_PIXEL = 1
  LINE_FIRST_PIXEL = 1
  SAMPLE_LAST_PIXEL = 1225
  LINE_LAST_PIXEL = 5336
END_OBJECT = IMAGE_MAP_PROJECTION
END
GROUP = SFDU2CUBE
  DATE_TIME = 2015-02-07T18:20:49
  SOFTWARE_DESC = "Translation of data format from SFDU into raw image qube(THM-EDR). Removes SFDU headers and unpackages data; returns an individual spectral image QUBE (THM-EDR) containing raw DN, with missing data CORE_NULL filled and an attched PDS label"
  VERSION_ID = 1.69
  USER_NAME = "bender@mission1"
  USER_NOTE = ""
  GROUP = PARAMETERS
    START_SFDU_ID = "1107630143"
    STOP_SFDU_ID = "1107630264"
    ERT_START_TIME = "2015-036 // 19:13:36"
    ERT_STOP_TIME = "2015-036 // 19:16:09"
    MISSING_PACKETS = 0
    FOUND_PACKETS = 936
  END_GROUP = PARAMETERS
END_GROUP = SFDU2CUBE
GROUP = CAL_VIS_IMAGE
  DATE_TIME = 2015-02-13T17:03:21
  SOFTWARE_DESC = "Calibration of a raw, visible image (VISEDR). Calibration includes 8-bit to 11-bit decoding, removal of instrumental effects, and conversion to spectral radiance (W cm-2 str-1 micron-1). The instrumental effects considered are detector bias, register stray light, photosite stray light, and variations in pixel sensitivity (i.e., flatfield effects). Spectral radiance is calculated from the exposure time and from the decoded, instrumentally corrected DN levels of the raw image, using conversion factors (BAND_BIN_SENSITIVITY) derived from pre-flight tests. For additional details, see CALIB/PROCESS.PDF."
  VERSION_ID = 4.10
  USER_NAME = "murray@mvc10a"
  USER_NOTE = ""
  GROUP = PARAMETERS
    BIAS_FILE = "/themis/calib/vis/data/zeroframe2_bias.fits"
    BIAS_FILE_DATE = 2006-02-14T18:12:10
    DESMEAR_FILE = "/themis/calib/vis/data/zeroframe2_zero.fits"
    DESMEAR_FILE_DATE = 2006-02-14T18:12:10
    FLATFIELD_FILE = " /themis/calib/vis/data/flat_framesm2.prof2.fits"
    FLATFIELD_FILE_DATE = 2006-02-14T18:12:03
    STRAY_LIGHT_FILE = " /themis/calib/vis/data/destray12_frame2_v1.fits"
    STRAY_LIGHT_FILE_DATE = 2006-02-14T18:12:03
    STRAY_LIGHT_REMOVAL_VERSION = 8
    BAND_BIN_MODEL_COEFF = (1.3351E-05)
    BAND_BIN_MODEL_COEFF_UNITS = " (WATT*CM**-2*SR**-1*UM**-1)/(DN*MSEC**-1)"
    BAND_BIN_SMEAR_COEFF = 67000.
    BAND_BIN_SMEAR_COEFF_UNITS = "DN/(WATT*CM**-2*SR**-1*UM**-1)"
    BAND_BIN_STRAY_LIGHT_SENSITIVITY = (3000.)
    BAND_BIN_SENSITIVITY = (56050.)
    BAND_BIN_SENSITIVITY_UNITS = "(DN*MSEC**-1) per (WATT*CMM**-2*SR**-1*UM**-1)"
  END_GROUP = PARAMETERS
END_GROUP = CAL_VIS_IMAGE
GROUP = ASU_PROCESS_COFF
  date_time = 2015-07-30T12:27:20
  software_desc = '"The radiance values of this THEMIS VIS-RDR QUBE were modified before geometric projection. This is a cosmetic correction which removes an optimized flat-field from each framelet in the image. The process maintains the overall radiance level of each framelet at the expense of significantly modifying the source VIS-RDR radiance values."'
  version_id = 2013.03
  davinci_version = 2.09
  user_name = murray@mvc15a
  user_note = 0
  GROUP = PARAMETERS
    flatfield_file = /themis/data/flat_framesm2.prof2.fits
    flatfield_file_date = 2005-10-22T18:21:00
  END_GROUP = PARAMETERS
END_GROUP = ASU_PROCESS_COFF
GROUP = THM2ISIS
  IsisVersion = "3.4.9.6114 stable | 2015-03-26"
  ProgramVersion = 2014-05-16
  ProgramPath = /mars/common/isis3/3.4.9_64/isis/bin
  ExecutionDateTime = 2015-07-30T12:27:20
  HostName = mvc15a
  UserName = murray
  Description = "Import a Themis IR/VIS RDR or EDR"
  GROUP = PARAMETERS
    FROM = /tmp/V58319001/V58319001RDR
    TO = /tmp/V58319001/V58319001.cub
    TIMEOFFSET = 0
  END_GROUP = PARAMETERS
END_GROUP = THM2ISIS
GROUP = SPICEINIT
  IsisVersion = "3.4.9.6114 stable | 2015-03-26"
  ProgramVersion = 2014-04-27
  ProgramPath = /mars/common/isis3/3.4.9_64/isis/bin
  ExecutionDateTime = 2015-07-30T12:27:21
  HostName = mvc15a
  UserName = murray
  Description = "Update SPICE data (kernels, pointing, and position) for a camera cube"
  GROUP = PARAMETERS
    FROM_EVEN = /tmp/V58319001/V58319001.even.cub
    FROM_ODD = /tmp/V58319001/V58319001.odd.cub
    WEB = false
    ATTACH = TRUE
    CKSMITHED = FALSE
    CKRECON = yes
    CKPREDICTED = FALSE
    CKNADIR = FALSE
    SPKSMITHED = FALSE
    SPKRECON = TRUE
    SPKPREDICTED = FALSE
    SHAPE = SYSTEM
    STARTPAD = 0
    ENDPAD = 0
    URL = http://services.isis.astrogeology.usgs.gov/cgi-bin/spicein- it.cgi
    PORT = 80
  END_GROUP = PARAMETERS
  GROUP = KERNELS
    NaifFrameCode = -53032
    LeapSecond = $base/kernels/lsk/naif0011.tls
    TargetAttitudeShape = $base/kernels/pck/pck00009.tpc
    TargetPosition = (Table, $base/kernels/spk/de405.bsp)
    InstrumentPointing = (Table, /themis/naif/ck/m01_sc_ext42.bc, $odyssey/kernels/fk/m01_v28.tf)
    Instrument = Null
    SpacecraftClock = $odyssey/kernels/sclk/ORB1_SCLKSCET.00210.tsc
    InstrumentPosition = (Table, /themis/naif/spk/spk_m_od58307-58393_rec_v1.b- sp)
    InstrumentAddendum = $odyssey/kernels/iak/themisAddendum003.ti
    ShapeModel = $base/dems/molaMarsPlanetaryRadius0005.cub
    InstrumentPositionQuality = Reconstructed
    InstrumentPointingQuality = Reconstructed
    CameraVersion = 1
  END_GROUP = KERNELS
END_GROUP = SPICEINIT
GROUP = THMVISTRIM
  IsisVersion = "3.4.9.6114 stable | 2015-03-26"
  ProgramVersion = 2014-08-22
  ProgramPath = /mars/common/isis3/3.4.9_64/isis/bin
  ExecutionDateTime = 2015-07-30T12:27:28
  HostName = mvc15a
  UserName = murray
  Description = "Trims data from framelets on Themis Vis images"
  GROUP = PARAMETERS
    FROM_EVEN = /tmp/V58319001/V58319001.even.cub
    FROM_ODD = /tmp/V58319001/V58319001.odd.cub
    TO_EVEN = /tmp/V58319001/V58319001.trim.even.cub
    TO_ODD = /tmp/V58319001/V58319001.trim.odd.cub
    TOPTRIM = 3
    BOTTOMTRIM = 3
    LEFTTRIM = 0
    RIGHTTRIM = 0
  END_GROUP = PARAMETERS
END_GROUP = THMVISTRIM
GROUP = CAM2MAP
  IsisVersion = "3.4.9.6114 stable | 2015-03-26"
  ProgramVersion = 2013-07-11
  ProgramPath = /mars/common/isis3/3.4.9_64/isis/bin
  ExecutionDateTime = 2015-07-30T12:27:30
  HostName = mvc15a
  UserName = murray
  Description = "Convert camera image to a map projection"
  GROUP = PARAMETERS
    FROM_EVEN = /tmp/V58319001/V58319001.trim.even.cub
    FROM_ODD = /tmp/V58319001/V58319001.trim.odd.cub
    MAP = /tmp/V58319001/V58319001.maptemplate
    TO_EVEN = /tmp/V58319001/V58319001.proj.even.cub
    TO_ODD = /tmp/V58319001/V58319001.proj.odd.cub
    MATCHMAP = false
    PIXRES = map
    DEFAULTRANGE = MINIMIZE
    LONSEAM = AUTO
    INTERP = bilinear
    WARPALGORITHM = AUTOMATIC
  END_GROUP = PARAMETERS
  GROUP = MAPPING
    ProjectionName = Equirectangular
    CenterLongitude = 180
    TargetName = MARS
    EquatorialRadius = 3.39619e+06
    PolarRadius = 3.3762e+06
    LatitudeType = Planetocentric
    LongitudeDirection = PositiveEast
    LongitudeDomain = 360
    MinimumLatitude = -28.3793
    MaximumLatitude = -25.1356
    MinimumLongitude = 167.826
    MaximumLongitude = 168.647
    UpperLeftCornerX = -653328
    UpperLeftCornerY = -1.48831e+06
    PixelResolution = 36
    Scale = 1644.78
    CenterLatitude = -25
    LocalRadius = 3.39584e+06
    CenterLatitudeRadius = 3.39259e+06
  END_GROUP = MAPPING
END_GROUP = CAM2MAP
GROUP = EDITLAB
  IsisVersion = "3.4.9.6114 stable | 2015-03-26"
  ProgramVersion = 2012-12-20
  ProgramPath = /mars/common/isis3/3.4.9_64/isis/bin
  ExecutionDateTime = 2015-07-30T12:28:08
  HostName = mvc15a
  UserName = murray
  Description = "Modifies cube labels"
  GROUP = PARAMETERS
    FROM_ODD /tmp/V58319001/V58319001.proj.odd.cub
    OPTIONS = addkey
    GRPNAME = Mapping
    KEYWORD = LocalRadius
    VALUE = 3.39584e+06
  END_GROUP = PARAMETERS
END_GROUP = EDITLAB
GROUP = ASU_PROCESS_FRAMECLIP
  date_time = 2015-07-30T12:29:12
  software_desc = "Frameclip was used to manipulate the overlapping data between framelets in preparation for mosaicing the even framelets on top of the odd framelets. Pixels in the trailing edge of even numbered framelets was replaced with the values from the overlapping odd numbered framelet; then overlapping pixels in odd framelets where removed."
  version_id = 2014.05
  davinci_version = 2.09
  user_name = murray@mvc15a
  user_note = Null
  GROUP = PARAMETERS
    ontop = even
    rotation = (0, 0)
  END_GROUP = PARAMETERS
END_GROUP = ASU_PROCESS_FRAMECLIP
GROUP = DAVINCI_TO_ISIS3
  DavinciVersion = "daVinci Version #2.09"
  DavinciIsis3ModuleVersion = "0.9.6 (ISIS 3.4.x)"
  ExecutionDateTime = 2015-07-30T19:29:13
  HostName = mvc15a
  UserName = murray
  Description = "ISIS3 cube written from davinci after asu_process_frameclip processing."
END_GROUP = DAVINCI_TO_ISIS3
GROUP = AUTOMOS
  IsisVersion = "3.4.9.6114 stable | 2015-03-26"
  ProgramVersion = 2014-04-07
  ProgramPath = /mars/common/isis3/3.4.9_64/isis/bin
  ExecutionDateTime = 2015-07-30T12:29:15
  HostName = mvc15a
  UserName = murray
  Description = "Create a mosaic using a list of map projected cubes"
  GROUP = PARAMETERS
    FROMLIST = /tmp/V58319001/V58319001.amos.lst
    MOSAIC = /tmp/V58319001/V58319001.amos.cub
    PRIORITY = ONTOP
    GRANGE = AUTO
    TRACK = FALSE
    MATCHBANDBIN = TRUE
    MATCHDEM = FALSE
    HIGHSATURATION = FALSE
    LOWSATURATION = FALSE
    NULL = FALSE
  END_GROUP = PARAMETERS
END_GROUP = AUTOMOS
GROUP = DAVISIS3
  DavinciVersion = "daVinci Version #2.09"
  DavinciIsis3ModuleVersion = "0.9.6 (ISIS 3.4.x)"
  ExecutionDateTime = 2015-07-30T19:29:16
  HostName = mvc15a
  UserName = murray
  Description = "ISIS3 cube written from davinci."
END_GROUP = DAVISIS3
GROUP = GEOMETRY_QUALITY
  DATE_TIME = 2015-09-11T13:55:21
  SOFTWARE_DESC = "The quality of the projected location of a THEMIS image can be affected by multiple factors, which are summarized here along with the assessed GEOMETRY_QUALITY_RATING. See the GEOMETRY/GEOMETRY.PDF for a full discussion of the individual parameters."
  GROUP = PARAMETERS
    GEOMETRY_SOURCE_DESC = "RECONSTRUCTED"
    SPACECRAFT_ATTITUDE_DESC = "(GYRO,TRACKING)"
    SPACECRAFT_ATTITUDE_ERROR = (-0.0039, -0.0027, -0.0444)
    SPACECRAFT_DESAT_EVENT = "NO"
    SPACECRAFT_TELEMETRY_GAP = "NO"
    ASU_BASEMAP_COREG = "N/A"
    GEOMETRY_QUALITY_RATING = "NO-ISSUES"
  END_GROUP = PARAMETERS
END_GROUP = GEOMETRY_QUALITY
END
