PDS_VERSION_ID = PDS3
/* File Identification and Structure */
RECORD_TYPE = "FIXED_LENGTH"
RECORD_BYTES = 954
FILE_RECORDS = 40592492
/* Pointers to Data Objects */
^HISTORY = 3976
^HEADER = ("V86103003SNU.CUB")
^QUBE = ("V86103003SNU.CUB", 65537)
/* Identification Data Elements */
MISSION_NAME = "2001 MARS ODYSSEY"
INSTRUMENT_HOST_NAME = "2001 MARS ODYSSEY"
INSTRUMENT_NAME = "THERMAL EMISSION IMAGING SYSTEM"
INSTRUMENT_ID = "THEMIS"
DETECTOR_ID = "VIS"
MISSION_PHASE_NAME = "EXTENDED-8"
SPACECRAFT_ORIENTATION_DESC = (PITCH, ROLL, YAW)
SPACECRAFT_ORIENTATION = (0, 0, 0)
SPACECRAFT_POINTING_MODE = "NADIR"
^SPACECRAFT_POINTING_MODE_DESC = "ODY_ORIENT_POINT.TXT"
TARGET_NAME = "MARS"
PRODUCT_ID = "V86103003SNU"
PRODUCER_ID = "ODY_THM_TEAM"
DATA_SET_ID = "ODY-M-THM-5-VISGEO-V2.0"
PRODUCT_CREATION_TIME = 2021-07-07T18:22:10
PRODUCT_VERSION_ID = "2.0"
SOURCE_PRODUCT_VERSION_ID = "1.0"
RELEASE_ID = "0078"
START_TIME = 2021-05-13T00:52:34.777
STOP_TIME = 2021-05-13T00:54:43.582
SPACECRAFT_CLOCK_START_COUNT = "1305335098.076"
SPACECRAFT_CLOCK_STOP_COUNT = "1305335227.026"
START_TIME_ET = 674139223.963
STOP_TIME_ET = 674139352.767
ORBIT_NUMBER = 86103
/* History Object Structure */
OBJECT = HISTORY
  BYTES = 11608
  HISTORY_TYPE = CUSTOM
  INTERCHANGE_FORMAT = ASCII
END_OBJECT = HISTORY
OBJECT = QUBE
  /* QUBE Structure */
  AXES = 3
  AXIS_NAME = (SAMPLE, LINE, BAND)
  BAND_STORAGE_TYPE = BAND_SEQUENTIAL
  /* Core Description */
  CORE_ITEMS = (954,5309,2)
  CORE_NAME = "CALIBRATED_SPECTRAL_RADIANCE"
  CORE_ITEM_BYTES = 4
  CORE_ITEM_TYPE = PC_REAL
  CORE_BASE = 0.0
  CORE_MULTIPLIER = 1.0
  CORE_UNIT = "WATT*CM**-2*SR**-1*UM**-1"
  CORE_NULL = -3.40282e+38
  CORE_VALID_MINIMUM = -3.40282e+38
  CORE_LOW_INSTR_SATURATION = -3.40282e+38
  CORE_LOW_REPR_SATURATION = -3.40282e+38
  CORE_HIGH_INSTR_SATURATION = -3.40282e+38
  CORE_HIGH_REPR_SATURATION = -3.40282e+38
  /* Observation Parameters */
  FLIGHT_SOFTWARE_VERSION_ID = "1.00"
  COMMAND_SEQUENCE_NUMBER = 86103
  IMAGE_ID = 3
  DESCRIPTION = "No Description Given"
  INST_CMPRS_RATIO = 1.83
  UNCORRECTED_SCLK_START_COUNT = "1305335099.025"
  IMAGE_DURATION = 128.800
  INST_CMPRS_NAME = "PREDICTIVE"
  FOCAL_PLANE_TEMPERATURE = -6.52
  EXPOSURE_DURATION = 5.500
  INTERFRAME_DELAY = 0.800
  SPATIAL_SUMMING = 4
  MD5_CHECKSUM = "8ab5405ce2175369658b504eac8c19c8"
  /* Band Bins */
  GROUP = BAND_BIN
    BAND_BIN_FILTER_NUMBER = (2, 4)
    BAND_BIN_BAND_NUMBER = (1, 4)
    BAND_BIN_CENTER = (0.42, 0.75)
    BAND_BIN_WIDTH = (0.05, 0.05)
    BAND_BIN_UNIT = "MICROMETER"
  END_GROUP = BAND_BIN
END_OBJECT = QUBE
/* Data Object Definition */
OBJECT = IMAGE_MAP_PROJECTION
  ^DATA_SET_MAP_PROJECTION = "DSMAP_SNU.CAT"
  GEOMETRY_SOURCE_DESC = "Reconstructed"
  COORDINATE_SYSTEM_TYPE = "BODY-FIXED ROTATING"
  COORDINATE_SYSTEM_NAME = "PLANETOCENTRIC"
  MAP_PROJECTION_TYPE = "SINUSOIDAL"
  MAP_PROJECTION_ROTATION = 0
  MAP_LONGITUDE_SYSTEM = 360
  A_AXIS_RADIUS = 3396.190
  B_AXIS_RADIUS = 3396.190
  C_AXIS_RADIUS = 3396.190
  FIRST_STANDARD_PARALLEL = "N/A"
  SECOND_STANDARD_PARALLEL = "N/A"
  POSITIVE_LONGITUDE_DIRECTION = "EAST"
  REFERENCE_LATITUDE = "N/A"
  REFERENCE_LONGITUDE = "N/A"
  CENTER_LATITUDE = 0.000
  CENTER_LONGITUDE = 314.878
  MINIMUM_LATITUDE = 32.677400
  MAXIMUM_LATITUDE = 39.126200
  WESTERNMOST_LONGITUDE = 314.148000
  EASTERNMOST_LONGITUDE = 315.582000
  MAP_SCALE = 0.072
  MAP_RESOLUTION = 823.260000
  SAMPLE_PROJECTION_OFFSET = 467.500
  LINE_PROJECTION_OFFSET = 32211.472
  SAMPLE_FIRST_PIXEL = 1
  LINE_FIRST_PIXEL = 1
  SAMPLE_LAST_PIXEL = 954
  LINE_LAST_PIXEL = 5309
END_OBJECT = IMAGE_MAP_PROJECTION
END
GROUP = SFDU2CUBE
  DATE_TIME = 2021-05-15T20:45:46
  SOFTWARE_DESC = "Translation of data format from SFDU into raw image qube(THM-EDR). Removes SFDU headers and unpackages data; returns an individual spectral image QUBE (THM-EDR) containing raw DN, with missing data CORE_NULL filled and an attched PDS label"
  VERSION_ID = 1.69
  USER_NAME = "bender@mission1"
  USER_NOTE = ""
  GROUP = PARAMETERS
    START_SFDU_ID = "1305425556"
    STOP_SFDU_ID = "1305425677"
    ERT_START_TIME = "2021-134 // 02:19:28"
    ERT_STOP_TIME = "2021-134 // 02:21:51"
    MISSING_PACKETS = 1
    FOUND_PACKETS = 979
  END_GROUP = PARAMETERS
END_GROUP = SFDU2CUBE
GROUP = CAL_VIS_IMAGE
  DATE_TIME = 2021-05-19T17:37:15
  SOFTWARE_DESC = "Calibration of a raw, visible image (VISEDR). Calibration includes 8-bit to 11-bit decoding, removal of instrumental effects, and conversion to spectral radiance (W cm-2 str-1 micron-1). The instrumental effects considered are detector bias, register stray light, photosite stray light, and variations in pixel sensitivity (i.e., flatfield effects). Spectral radiance is calculated from the exposure time and from the decoded, instrumentally corrected DN levels of the raw image, using conversion factors (BAND_BIN_SENSITIVITY) derived from pre-flight tests. For additional details, see CALIB/PROCESS.PDF."
  VERSION_ID = 4.10
  USER_NAME = "murray@mvc15b"
  USER_NOTE = ""
  GROUP = PARAMETERS
    BIAS_FILE = "/themis/calib/vis/data/zeroframe4_bias.fits"
    BIAS_FILE_DATE = 2006-02-14T18:12:11
    DESMEAR_FILE = "/themis/calib/vis/data/zeroframe4_zero.fits"
    DESMEAR_FILE_DATE = 2006-02-14T18:12:11
    FLATFIELD_FILE = " /themis/calib/vis/data/flat_framesm2.prof4.fits"
    FLATFIELD_FILE_DATE = 2006-02-14T18:12:03
    STRAY_LIGHT_FILE = " /themis/calib/vis/data/destray12_frame4_v1.fits"
    STRAY_LIGHT_FILE_DATE = 2006-02-14T18:12:03
    STRAY_LIGHT_REMOVAL_VERSION = 8
    BAND_BIN_MODEL_COEFF = (1.5952E-05, 2.3456E-05)
    BAND_BIN_MODEL_COEFF_UNITS = " (WATT*CM**-2*SR**-1*UM**-1)/(DN*MSEC**-1)"
    BAND_BIN_SMEAR_COEFF = 84000.
    BAND_BIN_SMEAR_COEFF_UNITS = "DN/(WATT*CM**-2*SR**-1*UM**-1)"
    BAND_BIN_STRAY_LIGHT_SENSITIVITY = (3000., 3000.)
    BAND_BIN_SENSITIVITY = (41800., 21250.)
    BAND_BIN_SENSITIVITY_UNITS = "(DN*MSEC**-1) per (WATT*CMM**-2*SR**-1*UM**-1)"
  END_GROUP = PARAMETERS
END_GROUP = CAL_VIS_IMAGE
GROUP = ASU_PROCESS_COFF
  date_time = 2021-07-07T18:04:00
  software_desc = '"The radiance values of this THEMIS VIS-RDR QUBE were modified before geometric projection. This is a cosmetic correction which removes an optimized flat-field from each framelet in the image. The process maintains the overall radiance level of each framelet at the expense of significantly modifying the source VIS-RDR radiance values."'
  version_id = 2013.03
  davinci_version = 2.09
  user_name = murray@mc42
  user_note = Null
  GROUP = PARAMETERS
    flatfield_file = /themis/data/flat_framesm2.prof4.fits
    flatfield_file_date = 2005-10-22T18:21:00
  END_GROUP = PARAMETERS
END_GROUP = ASU_PROCESS_COFF
GROUP = THM2ISIS
  IsisVersion = "3.4.9.6114 stable | 2015-03-26"
  ProgramVersion = 2014-05-16
  ProgramPath = /mars/common/isis3/3.4.9_64/isis/bin
  ExecutionDateTime = 2021-07-07T18:04:00
  HostName = mc42
  UserName = murray
  Description = "Import a Themis IR/VIS RDR or EDR"
  GROUP = PARAMETERS
    FROM = /tmp/V86103003SNU/V86103003RDR
    TO = /tmp/V86103003SNU/V86103003.cub
    TIMEOFFSET = 0
  END_GROUP = PARAMETERS
END_GROUP = THM2ISIS
GROUP = SPICEINIT
  IsisVersion = "3.4.9.6114 stable | 2015-03-26"
  ProgramVersion = 2014-04-27
  ProgramPath = /mars/common/isis3/3.4.9_64/isis/bin
  ExecutionDateTime = 2021-07-07T18:04:01
  HostName = mc42
  UserName = murray
  Description = "Update SPICE data (kernels, pointing, and position) for a camera cube"
  GROUP = PARAMETERS
    FROM_EVEN = /tmp/V86103003SNU/V86103003.even.cub
    FROM_ODD = /tmp/V86103003SNU/V86103003.odd.cub
    WEB = false
    ATTACH = TRUE
    CKSMITHED = FALSE
    CKRECON = yes
    CKPREDICTED = FALSE
    CKNADIR = FALSE
    SPKSMITHED = FALSE
    SPKRECON = TRUE
    SPKPREDICTED = FALSE
    SHAPE = SYSTEM
    STARTPAD = 0
    ENDPAD = 0
    URL = http://services.isis.astrogeology.usgs.gov/cgi-bin/spicein- it.cgi
    PORT = 80
  END_GROUP = PARAMETERS
  GROUP = KERNELS
    NaifFrameCode = -53032
    LeapSecond = /themis/naif/data/naif0012.tls
    TargetAttitudeShape = $base/kernels/pck/pck00009.tpc
    TargetPosition = (Table, $base/kernels/spk/de405.bsp)
    InstrumentPointing = (Table, /themis/naif/ck/m01_sc_ext67_vB.bc, $odyssey/kernels/fk/m01_v28.tf)
    Instrument = Null
    SpacecraftClock = /themis/naif/data/ORB1_SCLKSCET.00269.tsc
    InstrumentPosition = (Table, /themis/naif/spk/spk_m_od86098-86179_rec_v1.b- sp)
    InstrumentAddendum = $odyssey/kernels/iak/themisAddendum003.ti
    ShapeModel = $base/dems/molaMarsPlanetaryRadius0005.cub
    InstrumentPositionQuality = Reconstructed
    InstrumentPointingQuality = Reconstructed
    CameraVersion = 1
  END_GROUP = KERNELS
END_GROUP = SPICEINIT
GROUP = THMVISTRIM
  IsisVersion = "3.4.9.6114 stable | 2015-03-26"
  ProgramVersion = 2014-08-22
  ProgramPath = /mars/common/isis3/3.4.9_64/isis/bin
  ExecutionDateTime = 2021-07-07T18:04:06
  HostName = mc42
  UserName = murray
  Description = "Trims data from framelets on Themis Vis images"
  GROUP = PARAMETERS
    FROM_EVEN = /tmp/V86103003SNU/V86103003.even.cub
    FROM_ODD = /tmp/V86103003SNU/V86103003.odd.cub
    TO_EVEN = /tmp/V86103003SNU/V86103003.trim.even.cub
    TO_ODD = /tmp/V86103003SNU/V86103003.trim.odd.cub
    TOPTRIM = 4
    BOTTOMTRIM = 4
    LEFTTRIM = 0
    RIGHTTRIM = 0
  END_GROUP = PARAMETERS
END_GROUP = THMVISTRIM
GROUP = CAM2MAP
  IsisVersion = "3.4.9.6114 stable | 2015-03-26"
  ProgramVersion = 2013-07-11
  ProgramPath = /mars/common/isis3/3.4.9_64/isis/bin
  ExecutionDateTime = 2021-07-07T18:04:08
  HostName = mc42
  UserName = murray
  Description = "Convert camera image to a map projection"
  GROUP = PARAMETERS
    FROM_EVEN = /tmp/V86103003SNU/V86103003.trim.even.cub
    FROM_ODD = /tmp/V86103003SNU/V86103003.trim.odd.cub
    MAP = /tmp/V86103003SNU/V86103003.maptemplate
    TO_EVEN = /tmp/V86103003SNU/V86103003.proj.even.cub
    TO_ODD = /tmp/V86103003SNU/V86103003.proj.odd.cub
    MATCHMAP = false
    PIXRES = map
    DEFAULTRANGE = MINIMIZE
    LONSEAM = AUTO
    INTERP = bilinear
    WARPALGORITHM = AUTOMATIC
  END_GROUP = PARAMETERS
  GROUP = MAPPING
    ProjectionName = Sinusoidal
    CenterLongitude = 314.878
    TargetName = MARS
    EquatorialRadius = 3.39619e+06
    PolarRadius = 3.3762e+06
    LatitudeType = Planetocentric
    LongitudeDirection = PositiveEast
    LongitudeDomain = 360
    MinimumLatitude = 32.6774
    MaximumLatitude = 39.1262
    MinimumLongitude = 314.148
    MaximumLongitude = 315.582
    UpperLeftCornerX = -33624
    UpperLeftCornerY = 2.31919e+06
    PixelResolution = 72
    Scale = 823.26
    LocalRadius = 3.39619e+06
  END_GROUP = MAPPING
END_GROUP = CAM2MAP
GROUP = EDITLAB
  IsisVersion = "3.4.9.6114 stable | 2015-03-26"
  ProgramVersion = 2012-12-20
  ProgramPath = /mars/common/isis3/3.4.9_64/isis/bin
  ExecutionDateTime = 2021-07-07T18:04:26
  HostName = mc42
  UserName = murray
  Description = "Modifies cube labels"
  GROUP = PARAMETERS
    FROM_EVEN /tmp/V86103003SNU/V86103003.proj.even.cub
    FROM_ODD /tmp/V86103003SNU/V86103003.proj.odd.cub
    OPTIONS = addkey
    GRPNAME = Mapping
    KEYWORD = LocalRadius
    VALUE = 3.39619e+06
  END_GROUP = PARAMETERS
END_GROUP = EDITLAB
GROUP = FEATHER
  date_time = 2021-07-07T18:22:10
  software_desc = "The Feather filter was applied during the geometric projection of this THEMIS VIS-RDR QUBE. This cosmetic filter blends the data in the overlapping lines between framelets, and ramps brightness differences back towards the start of the framelet. Many values in the resulting cube may have been significantly modified from the source VIS-RDR values."
  version_id = 2018.05
  davinci_version = 2.09
  user_name = murray@mc42
  user_note = Null
  title = ASU_PROCESS_FEATHER
  GROUP = PARAMETERS
    current_projection = "Sinusoidal; 314.878"
    rotation = (180, 0)
    filter_dimensions = (15, 25)
    framelet1_note = "Forced delete of first collected framelet"
  END_GROUP = PARAMETERS
END_GROUP = FEATHER
GROUP = DAVISIS3
  DavinciVersion = "daVinci Version #2.09"
  DavinciIsis3ModuleVersion = "0.9.6 (ISIS 3.4.x)"
  ExecutionDateTime = 2021-07-08T01:22:16
  HostName = mc42
  UserName = murray
  Description = "ISIS3 cube written from davinci."
END_GROUP = DAVISIS3
GROUP = GEOMETRY_QUALITY
  DATE_TIME = 2021-11-09T14:52:17
  SOFTWARE_DESC = "The quality of the projected location of a THEMIS image can be affected by multiple factors, some of which are summarized here along with the assessed _QUALITY_RATING keywords. See the GEOMETRY/GEOMETRY.PDF for a full discussion of the individual parameters."
  GROUP = PARAMETERS
    GEOMETRY_SOURCE_DESC = "RECONSTRUCTED"
    SPACECRAFT_ORBITAL_NODE = "ASCENDING"
    SPACECRAFT_ATTITUDE_DESC = "(ALLSTAR,TRACKING)"
    SPACECRAFT_ATTITUDE_ERROR = (0.0247, -0.0088, -0.0536)
    SPACECRAFT_DESAT_EVENT = "NO"
    SPACECRAFT_TELEMETRY_GAP = "NO"
    ASU_BASEMAP_NAME = "N/A"
    ASU_BASEMAP_COREG = "N/A"
    SPACECRAFT_ATTITUDE_CHANGE = (0.076, 0.028, 0.070)
    ATTITUDE_QUALITY_RATING = "STABLE"
    GEOMETRY_QUALITY_RATING = "NO-ISSUES"
  END_GROUP = PARAMETERS
END_GROUP = GEOMETRY_QUALITY
END
