PDS_VERSION_ID = PDS3
/* File Identification and Structure */
RECORD_TYPE = "FIXED_LENGTH"
RECORD_BYTES = 578
FILE_RECORDS = 12567721
/* Pointers to Data Objects */
^HISTORY = 4021
^HEADER = ("V86513002POL.CUB")
^QUBE = ("V86513002POL.CUB", 65537)
/* Identification Data Elements */
MISSION_NAME = "2001 MARS ODYSSEY"
INSTRUMENT_HOST_NAME = "2001 MARS ODYSSEY"
INSTRUMENT_NAME = "THERMAL EMISSION IMAGING SYSTEM"
INSTRUMENT_ID = "THEMIS"
DETECTOR_ID = "VIS"
MISSION_PHASE_NAME = "EXTENDED-8"
SPACECRAFT_ORIENTATION_DESC = (PITCH, ROLL, YAW)
SPACECRAFT_ORIENTATION = (0, 0, 0)
SPACECRAFT_POINTING_MODE = "NADIR"
^SPACECRAFT_POINTING_MODE_DESC = "ODY_ORIENT_POINT.TXT"
TARGET_NAME = "MARS"
PRODUCT_ID = "V86513002POL"
PRODUCER_ID = "ODY_THM_TEAM"
DATA_SET_ID = "ODY-M-THM-5-VISGEO-V2.0"
PRODUCT_CREATION_TIME = 2022-01-06T14:47:03
PRODUCT_VERSION_ID = "2.0"
SOURCE_PRODUCT_VERSION_ID = "1.0"
RELEASE_ID = "0079"
START_TIME = 2021-06-15T19:22:44.440
STOP_TIME = 2021-06-15T19:23:17.245
SPACECRAFT_CLOCK_START_COUNT = "1308252910.102"
SPACECRAFT_CLOCK_STOP_COUNT = "1308252943.052"
START_TIME_ET = 677057033.625
STOP_TIME_ET = 677057066.429
SCLKERNEL = "ORB1_SCLKSCET.00275.tsc"
ORBIT_NUMBER = 86513
/* History Object Structure */
OBJECT = HISTORY
  BYTES = 10979
  HISTORY_TYPE = CUSTOM
  INTERCHANGE_FORMAT = ASCII
END_OBJECT = HISTORY
OBJECT = QUBE
  /* QUBE Structure */
  AXES = 3
  AXIS_NAME = (SAMPLE, LINE, BAND)
  BAND_STORAGE_TYPE = BAND_SEQUENTIAL
  /* Core Description */
  CORE_ITEMS = (578,2702,2)
  CORE_NAME = "CALIBRATED_SPECTRAL_RADIANCE"
  CORE_ITEM_BYTES = 4
  CORE_ITEM_TYPE = PC_REAL
  CORE_BASE = 0.0
  CORE_MULTIPLIER = 1.0
  CORE_UNIT = "WATT*CM**-2*SR**-1*UM**-1"
  CORE_NULL = -3.40282e+38
  CORE_VALID_MINIMUM = -3.40282e+38
  CORE_LOW_INSTR_SATURATION = -3.40282e+38
  CORE_LOW_REPR_SATURATION = -3.40282e+38
  CORE_HIGH_INSTR_SATURATION = -3.40282e+38
  CORE_HIGH_REPR_SATURATION = -3.40282e+38
  /* Observation Parameters */
  FLIGHT_SOFTWARE_VERSION_ID = "1.00"
  COMMAND_SEQUENCE_NUMBER = 86513
  IMAGE_ID = 2
  DESCRIPTION = "No Description Given"
  INST_CMPRS_RATIO = 1.84
  UNCORRECTED_SCLK_START_COUNT = "1308252911.051"
  IMAGE_DURATION = 32.800
  INST_CMPRS_NAME = "PREDICTIVE"
  FOCAL_PLANE_TEMPERATURE = -5.54
  EXPOSURE_DURATION = 1.400
  INTERFRAME_DELAY = 0.800
  SPATIAL_SUMMING = 2
  MD5_CHECKSUM = "3f11a5d53749e55aad3907226143fd6c"
  /* Band Bins */
  GROUP = BAND_BIN
    BAND_BIN_FILTER_NUMBER = (2, 4)
    BAND_BIN_BAND_NUMBER = (1, 4)
    BAND_BIN_CENTER = (0.42, 0.75)
    BAND_BIN_WIDTH = (0.05, 0.05)
    BAND_BIN_UNIT = "MICROMETER"
  END_GROUP = BAND_BIN
END_OBJECT = QUBE
/* Data Object Definition */
OBJECT = IMAGE_MAP_PROJECTION
  ^DATA_SET_MAP_PROJECTION = "DSMAP_POL.CAT"
  GEOMETRY_SOURCE_DESC = "Reconstructed"
  COORDINATE_SYSTEM_TYPE = "BODY-FIXED ROTATING"
  COORDINATE_SYSTEM_NAME = "PLANETOCENTRIC"
  MAP_PROJECTION_TYPE = "POLAR_STEREOGRAPHIC"
  MAP_PROJECTION_ROTATION = 0
  MAP_LONGITUDE_SYSTEM = 360
  A_AXIS_RADIUS = 3396.190
  B_AXIS_RADIUS = "N/A"
  C_AXIS_RADIUS = 3376.2
  FIRST_STANDARD_PARALLEL = "N/A"
  SECOND_STANDARD_PARALLEL = "N/A"
  POSITIVE_LONGITUDE_DIRECTION = "EAST"
  REFERENCE_LATITUDE = "N/A"
  REFERENCE_LONGITUDE = "N/A"
  CENTER_LATITUDE = 90.000
  CENTER_LONGITUDE = 185.062
  MINIMUM_LATITUDE = 86.175500
  MAXIMUM_LATITUDE = 87.175300
  WESTERNMOST_LONGITUDE = 285.384000
  EASTERNMOST_LONGITUDE = 313.756000
  MAP_SCALE = 0.036
  MAP_RESOLUTION = 1636.830000
  SAMPLE_PROJECTION_OFFSET = -4526.500
  LINE_PROJECTION_OFFSET = 3630.500
  SAMPLE_FIRST_PIXEL = 1
  LINE_FIRST_PIXEL = 1
  SAMPLE_LAST_PIXEL = 578
  LINE_LAST_PIXEL = 2702
END_OBJECT = IMAGE_MAP_PROJECTION
END
GROUP = SFDU2CUBE
  DATE_TIME = 2022-01-05T18:57:19
  SOFTWARE_DESC = "Translation of data format from SFDU into raw image qube(THM-EDR). Removes SFDU headers and unpackages data; returns an individual spectral image QUBE (THM-EDR) containing raw DN, with missing data CORE_NULL filled and an attched PDS label"
  VERSION_ID = 1.70
  USER_NAME = "murray@mvc07a"
  USER_NOTE = ""
  GROUP = PARAMETERS
    START_SFDU_ID = "1308998851"
    STOP_SFDU_ID = "1309000303"
    ERT_START_TIME = "2021-175 // 12:21:41"
    ERT_STOP_TIME = "2021-175 // 12:55:52"
    MISSING_PACKETS = 0
    FOUND_PACKETS = 952
  END_GROUP = PARAMETERS
END_GROUP = SFDU2CUBE
GROUP = CAL_VIS_IMAGE
  DATE_TIME = 2022-01-06T01:33:53
  SOFTWARE_DESC = "Calibration of a raw, visible image (VISEDR). Calibration includes 8-bit to 11-bit decoding, removal of instrumental effects, and conversion to spectral radiance (W cm-2 str-1 micron-1). The instrumental effects considered are detector bias, register stray light, photosite stray light, and variations in pixel sensitivity (i.e., flatfield effects). Spectral radiance is calculated from the exposure time and from the decoded, instrumentally corrected DN levels of the raw image, using conversion factors (BAND_BIN_SENSITIVITY) derived from pre-flight tests. For additional details, see CALIB/PROCESS.PDF."
  VERSION_ID = 4.10
  USER_NAME = "murray@mvc18b"
  USER_NOTE = ""
  GROUP = PARAMETERS
    BIAS_FILE = "/themis/calib/vis/data/zeroframe2_bias.fits"
    BIAS_FILE_DATE = 2006-02-14T18:12:10
    DESMEAR_FILE = "/themis/calib/vis/data/zeroframe2_zero.fits"
    DESMEAR_FILE_DATE = 2006-02-14T18:12:10
    FLATFIELD_FILE = " /themis/calib/vis/data/flat_framesm2.prof2.fits"
    FLATFIELD_FILE_DATE = 2006-02-14T18:12:03
    STRAY_LIGHT_FILE = " /themis/calib/vis/data/destray12_frame2_v1.fits"
    STRAY_LIGHT_FILE_DATE = 2006-02-14T18:12:03
    STRAY_LIGHT_REMOVAL_VERSION = 8
    BAND_BIN_MODEL_COEFF = (1.5952E-05, 2.3456E-05)
    BAND_BIN_MODEL_COEFF_UNITS = " (WATT*CM**-2*SR**-1*UM**-1)/(DN*MSEC**-1)"
    BAND_BIN_SMEAR_COEFF = 67000.
    BAND_BIN_SMEAR_COEFF_UNITS = "DN/(WATT*CM**-2*SR**-1*UM**-1)"
    BAND_BIN_STRAY_LIGHT_SENSITIVITY = (3000., 3000.)
    BAND_BIN_SENSITIVITY = (41800., 21250.)
    BAND_BIN_SENSITIVITY_UNITS = "(DN*MSEC**-1) per (WATT*CMM**-2*SR**-1*UM**-1)"
  END_GROUP = PARAMETERS
END_GROUP = CAL_VIS_IMAGE
GROUP = ASU_PROCESS_COFF
  date_time = 2022-01-06T14:45:44
  software_desc = '"The radiance values of this THEMIS VIS-RDR QUBE were modified before geometric projection. This is a cosmetic correction which removes an optimized flat-field from each framelet in the image. The process maintains the overall radiance level of each framelet at the expense of significantly modifying the source VIS-RDR radiance values."'
  version_id = 2013.03
  davinci_version = 2.09
  user_name = murray@mvc07a
  user_note = Null
  GROUP = PARAMETERS
    flatfield_file = /themis/data/flat_framesm2.prof2.fits
    flatfield_file_date = 2005-10-22T18:21:00
  END_GROUP = PARAMETERS
END_GROUP = ASU_PROCESS_COFF
GROUP = THM2ISIS
  IsisVersion = "3.4.9.6114 stable | 2015-03-26"
  ProgramVersion = 2014-05-16
  ProgramPath = /mars/common/isis3/3.4.9_64/isis/bin
  ExecutionDateTime = 2022-01-06T14:45:45
  HostName = mvc07a
  UserName = murray
  Description = "Import a Themis IR/VIS RDR or EDR"
  GROUP = PARAMETERS
    FROM = /tmp/V86513002POL/V86513002RDR
    TO = /tmp/V86513002POL/V86513002.cub
    TIMEOFFSET = 0
  END_GROUP = PARAMETERS
END_GROUP = THM2ISIS
GROUP = SPICEINIT
  IsisVersion = "3.4.9.6114 stable | 2015-03-26"
  ProgramVersion = 2014-04-27
  ProgramPath = /mars/common/isis3/3.4.9_64/isis/bin
  ExecutionDateTime = 2022-01-06T14:45:46
  HostName = mvc07a
  UserName = murray
  Description = "Update SPICE data (kernels, pointing, and position) for a camera cube"
  GROUP = PARAMETERS
    FROM_EVEN = /tmp/V86513002POL/V86513002.even.cub
    FROM_ODD = /tmp/V86513002POL/V86513002.odd.cub
    WEB = false
    ATTACH = TRUE
    CKSMITHED = FALSE
    CKRECON = yes
    CKPREDICTED = FALSE
    CKNADIR = FALSE
    SPKSMITHED = FALSE
    SPKRECON = TRUE
    SPKPREDICTED = FALSE
    SHAPE = SYSTEM
    STARTPAD = 0
    ENDPAD = 0
    URL = http://services.isis.astrogeology.usgs.gov/cgi-bin/spicein- it.cgi
    PORT = 80
  END_GROUP = PARAMETERS
  GROUP = KERNELS
    NaifFrameCode = -53032
    LeapSecond = /themis/naif/data/naif0012.tls
    TargetAttitudeShape = $base/kernels/pck/pck00009.tpc
    TargetPosition = (Table, $base/kernels/spk/de405.bsp)
    InstrumentPointing = (Table, /themis/naif/ck/m01_sc_ext67.bc, $odyssey/kernels/fk/m01_v28.tf)
    Instrument = Null
    SpacecraftClock = /themis/naif/data/ORB1_SCLKSCET.00275.tsc
    InstrumentPosition = (Table, /themis/naif/spk/spk_m_od86440-86530_rec_v1.b- sp)
    InstrumentAddendum = $odyssey/kernels/iak/themisAddendum003.ti
    ShapeModel = $base/dems/molaMarsPlanetaryRadius0005.cub
    InstrumentPositionQuality = Reconstructed
    InstrumentPointingQuality = Reconstructed
    CameraVersion = 1
  END_GROUP = KERNELS
END_GROUP = SPICEINIT
GROUP = THMVISTRIM
  IsisVersion = "3.4.9.6114 stable | 2015-03-26"
  ProgramVersion = 2014-08-22
  ProgramPath = /mars/common/isis3/3.4.9_64/isis/bin
  ExecutionDateTime = 2022-01-06T14:45:52
  HostName = mvc07a
  UserName = murray
  Description = "Trims data from framelets on Themis Vis images"
  GROUP = PARAMETERS
    FROM_EVEN = /tmp/V86513002POL/V86513002.even.cub
    FROM_ODD = /tmp/V86513002POL/V86513002.odd.cub
    TO_EVEN = /tmp/V86513002POL/V86513002.trim.even.cub
    TO_ODD = /tmp/V86513002POL/V86513002.trim.odd.cub
    TOPTRIM = 5
    BOTTOMTRIM = 5
    LEFTTRIM = 0
    RIGHTTRIM = 0
  END_GROUP = PARAMETERS
END_GROUP = THMVISTRIM
GROUP = CAM2MAP
  IsisVersion = "3.4.9.6114 stable | 2015-03-26"
  ProgramVersion = 2013-07-11
  ProgramPath = /mars/common/isis3/3.4.9_64/isis/bin
  ExecutionDateTime = 2022-01-06T14:45:54
  HostName = mvc07a
  UserName = murray
  Description = "Convert camera image to a map projection"
  GROUP = PARAMETERS
    FROM_EVEN = /tmp/V86513002POL/V86513002.trim.even.cub
    FROM_ODD = /tmp/V86513002POL/V86513002.trim.odd.cub
    MAP = /tmp/V86513002POL/V86513002.maptemplate
    TO_EVEN = /tmp/V86513002POL/V86513002.proj.even.cub
    TO_ODD = /tmp/V86513002POL/V86513002.proj.odd.cub
    MATCHMAP = false
    PIXRES = map
    DEFAULTRANGE = MINIMIZE
    LONSEAM = AUTO
    INTERP = bilinear
    WARPALGORITHM = AUTOMATIC
  END_GROUP = PARAMETERS
  GROUP = MAPPING
    ProjectionName = PolarStereographic
    CenterLongitude = 185.062
    TargetName = MARS
    EquatorialRadius = 3.39619e+06
    PolarRadius = 3.3762e+06
    LatitudeType = Planetocentric
    LongitudeDirection = PositiveEast
    LongitudeDomain = 360
    MinimumLatitude = 86.1755
    MaximumLatitude = 87.1753
    MinimumLongitude = 285.384
    MaximumLongitude = 313.756
    UpperLeftCornerX = 162972
    UpperLeftCornerY = 130680
    PixelResolution = 36
    Scale = 1636.83
    CenterLatitude = 90
  END_GROUP = MAPPING
END_GROUP = CAM2MAP
GROUP = FEATHER
  date_time = 2022-01-06T14:47:03
  software_desc = "The Feather filter was applied during the geometric projection of this THEMIS VIS-RDR QUBE. This cosmetic filter blends the data in the overlapping lines between framelets, and ramps brightness differences back towards the start of the framelet. Many values in the resulting cube may have been significantly modified from the source VIS-RDR values."
  version_id = 2018.05
  davinci_version = 2.09
  user_name = murray@mvc07a
  user_note = Null
  title = ASU_PROCESS_FEATHER
  GROUP = PARAMETERS
    current_projection = "PolarStereographic; 185.062"
    rotation = (0, 0)
    filter_dimensions = (20, 40)
    framelet1_note = N/A
  END_GROUP = PARAMETERS
END_GROUP = FEATHER
GROUP = DAVISIS3
  DavinciVersion = "daVinci Version #2.09"
  DavinciIsis3ModuleVersion = "0.9.6 (ISIS 3.4.x)"
  ExecutionDateTime = 2022-01-06T21:47:04
  HostName = mvc07a
  UserName = murray
  Description = "ISIS3 cube written from davinci."
END_GROUP = DAVISIS3
GROUP = GEOMETRY_QUALITY
  DATE_TIME = 2022-02-08T11:05:09
  SOFTWARE_DESC = "The quality of the projected location of a THEMIS image can be affected by multiple factors, some of which are summarized here along with the assessed _QUALITY_RATING keywords. See the GEOMETRY/GEOMETRY.PDF for a full discussion of the individual parameters."
  GROUP = PARAMETERS
    GEOMETRY_SOURCE_DESC = "RECONSTRUCTED"
    SPACECRAFT_ORBITAL_NODE = "ASCENDING"
    SPACECRAFT_ATTITUDE_DESC = "(ALLSTAR,TRACKING)"
    SPACECRAFT_ATTITUDE_ERROR = (0.0115, -0.0084, -0.0413)
    SPACECRAFT_DESAT_EVENT = "NO"
    SPACECRAFT_TELEMETRY_GAP = "NO"
    ASU_BASEMAP_NAME = "N/A"
    ASU_BASEMAP_COREG = "N/A"
    SPACECRAFT_ATTITUDE_CHANGE = (0.038, 0.014, 0.027)
    ATTITUDE_QUALITY_RATING = "STABLE"
    GEOMETRY_QUALITY_RATING = "NO-ISSUES"
  END_GROUP = PARAMETERS
END_GROUP = GEOMETRY_QUALITY
END
