17.9999992251
0.0000000000
0.0000000000
-17.9999992251
9456092.5929360092
1512098.9349074662
